BEGIN:VCALENDAR
VERSION:2.0
PRODID:-//Ana Wanke - ECPv6.15.20//NONSGML v1.0//EN
CALSCALE:GREGORIAN
METHOD:PUBLISH
X-ORIGINAL-URL:https://taperouge.com
X-WR-CALDESC:Eventos para Ana Wanke
REFRESH-INTERVAL;VALUE=DURATION:PT1H
X-Robots-Tag:noindex
X-PUBLISHED-TTL:PT1H
BEGIN:VTIMEZONE
TZID:America/Sao_Paulo
BEGIN:STANDARD
TZOFFSETFROM:-0200
TZOFFSETTO:-0300
TZNAME:-03
DTSTART:20170219T020000
END:STANDARD
BEGIN:DAYLIGHT
TZOFFSETFROM:-0300
TZOFFSETTO:-0200
TZNAME:-02
DTSTART:20171015T030000
END:DAYLIGHT
BEGIN:STANDARD
TZOFFSETFROM:-0200
TZOFFSETTO:-0300
TZNAME:-03
DTSTART:20180218T020000
END:STANDARD
BEGIN:DAYLIGHT
TZOFFSETFROM:-0300
TZOFFSETTO:-0200
TZNAME:-02
DTSTART:20181104T030000
END:DAYLIGHT
BEGIN:STANDARD
TZOFFSETFROM:-0200
TZOFFSETTO:-0300
TZNAME:-03
DTSTART:20190217T020000
END:STANDARD
END:VTIMEZONE
BEGIN:VEVENT
DTSTART;TZID=America/Sao_Paulo:20180308T063000
DTEND;TZID=America/Sao_Paulo:20180308T193000
DTSTAMP:20260423T215936
CREATED:20180222T202505Z
LAST-MODIFIED:20180316T180140Z
UID:5817-1520490600-1520537400@taperouge.com
SUMMARY:Dia da Mulher na Lapinha SPA
DESCRIPTION:A Lapinha Spa está abrindo suas portas para as clientes Ana Wanke Turismo e Aventura passarem o Dia da Mulher com todos os mimos que elas tem direito! \nA Lapinha promove o resgate da essência humana\, com foco em nutrição\, fisioterapia e atividades físicas. Tudo isso em um ambiente acolhedor e em contato com a natureza. Esta é uma chance para você\, além de caminhar em contato com a natureza\, conhecer um pouco mais deste Spa premiadíssimo no Brasil e no mundo! \nChegaremos na Lapinha Spa\, visitaremos as instalações e em seguida sairemos para nossa caminhada pela Trilha que envolve a horta de orgânicos e o lago. Para aquelas que quiserem\, podem participar da aula de hidroginástica. As terapias aquáticas são um ponto forte do trabalho no Spa. \nNeste dia especial da Mulher\, iremos provar no almoço a deliciosa culinária ovo-lacto-vegetariana da Lapinha. E se você quiser levar um pouco da Lapinha embora\, haverá uma feirinha dos produtos orgânicos produzidos por eles. \nA tarde teremos tempo ainda para uma caminhada pela Trilha das Embuias e utilizar o Circuito Spa\, composto por sauna seca e úmida\, tanque de imersão\, hidromassagem e ducha de sensações. É uma experiência fantástica! \nAinda existe a possibilidade de utilizar a bela piscina externa e fazer uma massagem. As terapias como as massagens não estão incluídas\, mas podem ser marcadas a parte de acordo com a disponibilidade dos profissionais. \nVoltaremos à Curitiba com as energias renovadas e relaxadas! \n\nCompartilhe:
URL:https://taperouge.com/roteiro/dia-da-mulher-na-lapinha-spa/
LOCATION:Lapinha Spa\, Lapinha Spa\, Lapa\, Paraná\, 83750-000\, Brasil
CATEGORIES:Caminhada,Outros,Turismo
ATTACH;FMTTYPE=image/jpeg:https://taperouge.com/wp-content/uploads/2018/02/lapinha-spa-1.jpg
END:VEVENT
END:VCALENDAR