BEGIN:VCALENDAR
VERSION:2.0
PRODID:-//Ana Wanke - ECPv6.15.20//NONSGML v1.0//EN
CALSCALE:GREGORIAN
METHOD:PUBLISH
X-WR-CALNAME:Ana Wanke
X-ORIGINAL-URL:https://taperouge.com
X-WR-CALDESC:Eventos para Ana Wanke
REFRESH-INTERVAL;VALUE=DURATION:PT1H
X-Robots-Tag:noindex
X-PUBLISHED-TTL:PT1H
BEGIN:VTIMEZONE
TZID:America/Sao_Paulo
BEGIN:STANDARD
TZOFFSETFROM:-0300
TZOFFSETTO:-0300
TZNAME:-03
DTSTART:20250101T000000
END:STANDARD
END:VTIMEZONE
BEGIN:VEVENT
DTSTART;TZID=America/Sao_Paulo:20260830T120000
DTEND;TZID=America/Sao_Paulo:20260911T120000
DTSTAMP:20260423T200653
CREATED:20250131T131314Z
LAST-MODIFIED:20250709T175432Z
UID:29299-1788091200-1789128000@taperouge.com
SUMMARY:Nepal e Butão 2026
DESCRIPTION:Conheceremos as mais extremas paisagens do Nepal\, desde deslumbrantes montanhas como o Machapuchare considerada uma das mais belas do planeta\, até incríveis templos medievais em Bhaktapur. Este ano faremos Uma extensão ao país mais feliz do mundo\, o Butão. \nDurante nossos trekkings\, passaremos por pequenos povoados\, onde descansaremos e pernoitaremos. O contato com a cultura exótica e a observação de diversos grupos étnicos são atrações instigantes\, um verdadeiro presente para os participantes deste roteiro\, que serão recebidos com extrema hospitalidade pelos nativos. \nConfira o roteiro e tudo que inclui essa aventura! \n• Dia 1 (30/ago) – Chegada em Katmandu; Reunião com equipe – pernoite em Kathmandu\n• Dia 2 (31/ago) – Bhaktapur (El.1350m): Visita a cidade medieval e templos com guia em espanhol  e jantar típico – pernoite em Kathmandu\n• Dia 3 (01/set) – Vôo de Kathmandu/Pokhara (El.900m) – Transfer para o início da caminhada. Jhinu (1.700m) – Chomrong (El.2100m): Caminhada de 3 hrs (Passando pela ponte suspensa)\n• Dia 4 (02/set) – Chomrong (2100m) – Bamboo (El.2300m): Caminhada de 6 hrs\n• Dia 8 (03/set) – Bamboo (El.2300m) – Deurali (El.3.230m): Caminhada de 6 hrs\n• Dia 9 (04/set) – Deurali (El.3.230m) – Annapurna BC (El.4.150m): Caminhada de 6 hrs\n• Dia 10 (05/set) – Annapurna BC (El.4.150m) – Retorno de Helicóptero à Pokhara: pernoite em Pokhara\n• Dia 11 (06/set) – Voos de Pohkara – Kathmandu – Paro\, Museu Nacional Ta Dzong. Pernoite em Paro\n• Dia 12 (07/set) – Trekking até o Mosteiro de Tiger’s Nest (Paro Taktsang). Caminhada leva cerca de 2 a 3 horas. Pernoite em Paro\n• Dia 13 (08/set) – Visitas a Buda Dordenma\, Memorial Chorten\, Mercado Nacional e o Centro de Artes e Ofício. Jantar Típico. Pernoite em Thimphu.\n• Dia 14 (09/set) – Visita ao Tsechu ou ao Palácio Tashichho Dzong\, retorno à Paro. Voo à Kathmandu. Pernoite em Kathmandu\n• Dia 15 (10/set) – Dia livre em Kathmandu\n• Dia 16 (11/set) – Retorno \nO itinerário disponível aqui está sujeito à mudanças devido à condições climáticas\, performance do grupo ou mudanças políticas/administrativas do local em questão. \n\nCompartilhe:
URL:https://taperouge.com/roteiro/nepal-e-annapurna-base-camp-2026/
LOCATION:Annapurna\, Annapurna\, Nepal
CATEGORIES:Caminhada,Montanhismo,Trekking,Turismo
ATTACH;FMTTYPE=image/jpeg:https://taperouge.com/wp-content/uploads/2020/09/Capas.jpg
END:VEVENT
BEGIN:VEVENT
DTSTART;TZID=America/Sao_Paulo:20260924T120000
DTEND;TZID=America/Sao_Paulo:20261007T120000
DTSTAMP:20260423T200653
CREATED:20191028T195701Z
LAST-MODIFIED:20250709T122234Z
UID:11881-1790251200-1791374400@taperouge.com
SUMMARY:Caminho de Assis 2026
DESCRIPTION:Vamos trilhar o Caminho de São Francisco de Assis! Venha conhecer a história e o legado deste homem que foi um Santo já em vida\, conversava com os animais\, tinha um novo olhar para a humanidade e foi um dos precursores do renascimento. \nNosso objetivo maior é seguir os passos de São Francisco\, então vamos lá para um resumo… A caminhada começará na Toscana e se desenvolverá pela Umbria. Terminaremos nosso roteiro em Assis\, mundialmente famosa por ser a cidade de São Francisco de Assis e Santa Clara. Um lugar com uma energia única\, que recebe peregrinos e fiéis do mundo todo. Mas não é só por isso que Assis é especial. Assis é uma cidadezinha medieval\, que mantém muito de sua arquitetura original. \nConfira o dia a dia do nosso roteiro: \nDia 1 (24/set): Nos encontraremos no Hotel em Roma para unir todo o grupo. \nDia 2 (25/set): Transfer de Roma à La Verna. Pernoite em La Verna\, onde São Francisco de Assis recebeu os estigmas de Cristo. teremos nosso jantar de Confraternização incluso. \nDia 3 (26/set): Após o café da manhã\, caminharemos através de uma floresta encantada\, onde São Francisco costumava meditar\, orar e curar. Passaremos o resto do dia no Santuário\, visitando as várias partes interessantes do lugar e conhecendo a história de São Francisco. Pernoite em La Verna. \nDia 4 (27/set): Caminhada de 21 km. Caminharemos do Santuário de La Verna até o Pieve Santo Stefano. Pernoite em Pieve Santo Stefano. \nDia 5 (28/set): Caminhada de 19 km.  Pernoite em Sansepulcro \nDia 6 (29/set): Caminhada de 20 km. Pernoite em Città di Castelo \nDia 7 (30/set): Caminhada de 19 km. Pernoite em Pietralunga \nDia 8 (01/out): Caminhada de 16 km. Pernoite em Gubbio\, cidade onde São Francisco conversou com o Lobo. \nDia 9 (02/out): Caminhada de 19 km. Pernoite em Valfabrica \nDia 10 (03/out): Caminhada de 13 km. Pernoite em Assis. Retirada do Certificado do peregrino e visita guiada no Santuário de Assis. Missa e Benção do Peregrino. \nDia 11 (04/out): Dia livre para percorrer a cidade de Assis no dia de São Francisco!! Visitaremos Basílica de Santa Clara e Santuário de São Damião (um pouco afastada da cidade). Todos esses lugares fazem parte da história de São Francisco. Além disso podemos visitar a Basílica de San Rufino encontra-se o corpo do Beato Carlo Acutis que será santificado em 2025. \nDia 12 (05/out): Como há muito que se ver em Assis\, vamos aproveitar e visitar a Porciúncula onde São Francisco faleceu. Como o dia anterior foi de comemoração do dia de São Francisco\, deixei este dia para fazer o que não deu tempo no Domingo! \nDia 13 (06/out): Visita à Cassia e a cidade natal de Santa Rita de Cassia. Pernoite em Assis. \nDia 14 (07/out): Retorno à Roma e fim do roteiro. \n\nCompartilhe:
URL:https://taperouge.com/roteiro/caminho-de-assis-2026/
CATEGORIES:Caminhada,Turismo
ATTACH;FMTTYPE=image/jpeg:https://taperouge.com/wp-content/uploads/2019/10/Corporate-Website-Facebook-Cover-.jpg
END:VEVENT
BEGIN:VEVENT
DTSTART;TZID=America/Sao_Paulo:20261011T080000
DTEND;TZID=America/Sao_Paulo:20261023T170000
DTSTAMP:20260423T200653
CREATED:20240123T015024Z
LAST-MODIFIED:20250709T125040Z
UID:24525-1791705600-1792774800@taperouge.com
SUMMARY:Caminho de Maria Madalena 2026
DESCRIPTION:O Caminho de Maria Madalena é uma das mais recentes rotas de peregrinação e vamos percorrê-la com grupo reduzido e bem estruturado. \nO Caminho de Maria Madalena oferece a oportunidade de seguir os passos de Santa Maria Madalena. Iniciaremos nassa peregrinação no santuário de Notre-Dame-de-la-Mer em Saintes-Maries-de-la-Mer e chegaremos caminhando na basílica de Santa Maria Madalena em Saint-Maximin-la-Sainte-Baume\, onde encontram-se os restos mortais de Maria Madalena. \nPercorreremos 175  quilômetros\, divididos em 6 etapas\, atravessando as paisagens esplêndidas das regiões de Camargue e Provence. Optamos por não cruzar a grande cidade de Marselle caminhando. Em vez disso teremos um “day off” e além de visitaremos alguns pontos interessantes da cidade\, descansaremos para o sprint final do roteiro. \nAcredita-se que esta rota de peregrinação tenha sido percorrida por Santa Maria Madalena. Ela fooi uma figura próxima a Jesus Cristo que\, segundo as Escrituras\, foi a primeira a vê-Lo após Sua ressurreição. \nDe acordo com a tradição\, alguns dos amigos e seguidores de Jesus escaparam da perseguição na Terra Santa e eventualmente chegaram à região sul da França.\nPadroeira da Provence\, Santa Maria Madalena chegou no litoral francês numa jangada sem remos. E em sua companhia estavam São Máximo\, Santa Maria Jacobé e Santa Maria Salomé\, assim como Santa Sara (Santa padroeira dos ciganos). \nDescrição do Roteiro:\n11/out: Nos encontramos no hotel em Paris. Visita à Igreja de la Madeleine. Pernoite em Paris.\n12/out: Trem para Marselha. Transfer para Saintes Maries de la Mer.\n13/out: Passaremos o dia em Saintes Maries de la Mer.\n14/out: início do Caminho de Maria Madalena! Percorremos 30 km neste dia no plano\, passando por uma linda paisagem de reserva natural e chegando nas Salinas.\n15/out: Caminharemos 25 km\n16/out: Caminharemos 26 km\n17/out: Caminharemos 23 km\n18/out: Day off em Marselle. Optamos por não cruzar a cidade caminhando. Em vez disso visitaremos alguns pontos interessantes da cidade e descansaremos para o sprint final do roteiro.\n19/out: Caminharemos 25 km\n20/out: Caminharemos 20 km\,  e superaremos os maiores desníveis da nossa caminhada. Primeiro passaremos pela Capela de Saint Pilon e depois chegaresmo a Gruta de Sainte Marie-Madeleine.\n21/out: Ultimo dia de caminhada!!! Serão 26 km até Basílica de Saint Maximin la Saint Baume\, que abriga as relíquias de Maria Madalena. Pernoite em Saint Maximin.\n22/out: Transfer à Marselha. Pernoite em Marselha.\n23/out: Retorno à Paris. Fim do roteiro. \nVenha conosco:\nNossa primeira turma será reduzida\, porque o Caminho ainda não possui muita estrutura.\nTeremos 2 guias e um carro de apoio\, que també fará o transporte de bagagem.\nE aí\, ficou curioso? Venha percorrê-lo comigo em 2026! \n\n  \n  \nCompartilhe:
URL:https://taperouge.com/roteiro/caminho-de-maria-madalena-2026/
CATEGORIES:Caminhada,Turismo
ATTACH;FMTTYPE=image/jpeg:https://taperouge.com/wp-content/uploads/2024/01/Capas-2.jpg
END:VEVENT
BEGIN:VEVENT
DTSTART;TZID=America/Sao_Paulo:20270603T090000
DTEND;TZID=America/Sao_Paulo:20270622T100000
DTSTAMP:20260423T200653
CREATED:20230528T140821Z
LAST-MODIFIED:20250701T195652Z
UID:23110-1812013200-1813658400@taperouge.com
SUMMARY:Caminho Francês a partir de Leon 2027
DESCRIPTION:Se você não tem disponibilidade de fazer o Caminho Francês desde Saint Jeant Pied de Port\, que tal estar conosco em 20 dias no Roteiro do Caminho Francês a partir de Leon! Serão 308 km caminhados em 14 dias de roteiro\, os demais dias teremos passeios e visitas especiais! Nos hospedaremos em albergues\, com alguns hotéis pré-agendados: \n\n03/06/2027: Tranfer Madrid para Leon (Trem). Pernoite em Leon.\n04/06/2027: City tour em Leon (a pé). Pernoite em Leon.\n05/06/2027: Início da Caminhada!\n12/06/2027: Chegaremos ao emblemático Cebreiro\, povoado celta edificado todo em pedra. Nosso pernoite será em pousada.\n15/06/2027: Passaremos caminhando pelo “marco 100”\, ou seja\, faltarão apenas 100 km para chegar a Santiago.\n19/06/2027: Chegada a Santiago. Passeio por Santiago de Compostela passando pelos pontos históricos e visita guiada aos Telhados da Catedral de Santiago de Compostela. Pernoite em Santiago de Compostela\n20/06/2027: Missa especial na Catedral de Santiago e visita guiada na Catedral. Pernoite em Santiago de Compostela.\n21/06/2027: Passeio a Finisterra e Muxia. Jantar de despedida. Dia de São João tem festa a noite na cidade! Pernoite em Santiago de Compostela.\n22/06/2027: Fim do roteiro.\n\nSerão 20 dias de roteiro\, 308km a serem caminhados em 14 dias\, acompanhados integralmente e pessoalmente por Ana Wanke.\nQualquer dúvida entre em contato diretamente comigo no whatsapp (41) 99282 5749 Ana Wanke. \n\nCompartilhe:
URL:https://taperouge.com/roteiro/caminho-frances-a-partir-de-leon-2027/
LOCATION:Santiago de Compostela\, Santiago de Compostela\, Galícia\, Espanha
CATEGORIES:Caminhada
ATTACH;FMTTYPE=image/jpeg:https://taperouge.com/wp-content/uploads/2018/09/COLONIA.jpg
END:VEVENT
END:VCALENDAR