BEGIN:VCALENDAR
VERSION:2.0
PRODID:-//Ana Wanke - ECPv6.15.20//NONSGML v1.0//EN
CALSCALE:GREGORIAN
METHOD:PUBLISH
X-ORIGINAL-URL:https://taperouge.com
X-WR-CALDESC:Eventos para Ana Wanke
REFRESH-INTERVAL;VALUE=DURATION:PT1H
X-Robots-Tag:noindex
X-PUBLISHED-TTL:PT1H
BEGIN:VTIMEZONE
TZID:America/Sao_Paulo
BEGIN:STANDARD
TZOFFSETFROM:-0300
TZOFFSETTO:-0300
TZNAME:-03
DTSTART:20250101T000000
END:STANDARD
END:VTIMEZONE
BEGIN:VEVENT
DTSTART;TZID=America/Sao_Paulo:20260725T020000
DTEND;TZID=America/Sao_Paulo:20260802T203000
DTSTAMP:20260423T185149
CREATED:20231211T123652Z
LAST-MODIFIED:20250822T134952Z
UID:24295-1784944800-1785702600@taperouge.com
SUMMARY:Trilha Inca e Machu Picchu 2026
DESCRIPTION:Machu Picchu é considerado Patrimônio Cultural e Natural da Humanidade desde 1983. \nSe quiser fazer parte desta aventura\, tem que ser rápido para garantir sua vaga! A vagas disponíveis para a Trilha Inca são controladas pelo Governo do Peru!!! \nExistem muitos caminhos alternativos para se chegar às ruínas de Machu Picchu. O caminho tradicional é a Trilha Inca\, que tem muitos sítios arqueológicos que ajudam a contar a história desta civilização fantástica. Com intuito de preservar este patrimônio histórico\, em 2004 o governo Peruano limitou o ingresso a um total de 500 pessoas por dia. Isto causou um impacto nas agências de viagens\, mas era uma ação necessária para manter a sustentabilidade das visitações. \nConfira o cronograma e confirme já sua participação: \n\nDia 01 (25/07/2026): Iniciando nosso roteiro\n– Voo Guarulhos/Lima/Cusco\n– Chegada em Cusco. Transfer do aeroporto/hotel.\n– Tarde livre para descanso e aclimatação.\n– Pernoite em Cusco\nDia 02 (26/07/2026): City tour em Cusco\n– Visita a sítios arqueológicos nas proximidades de Cusco\, tais como a Catedral\, Praça de Armas e Koricancha o Templo do Sol. Esse tour também contempla Kenko\, Puca Pucara Tambomachay e a fortaleza de Sacsayhuaman.\n– Pernoite em Cusco\nDia 03 (27/07/2026): Tour pelo Vale Sagrado\n– Visita ao Vale Sagrado\, no Mercado de Pisac e o complexo Arquiológico de Ollantaytambo\, entre outros lugares.\n– Almoçaremos às margens do rio Urubamba (incluso).\n– Pernoite em Cusco\nDia 04 (28/07/2026): Começa nossa clássica Trilha Inca!\n– Deslocamento até o local de controle e início da caminhada.\n– Chegaremos a Huayllabamba (Altitude máxima do dia El. 2.960). Serão 12 km com caminhada de aproximadamente 6 horas.\nAltitude mínima: 2.670 m\nAltitude máxima: 2.960 m\nAltitude do acampamento: 2.960 m\n– Café da Manhã\, almoço e jantar inclusos.\nDia 05 (29/07/2026): 2º. dia de Trilha:\n– Sairemos de Huayllabamba\, passando pelo Passo Warmiwañusca (Altitude máxima do dia El. 4.200) até chegar em Pacaymayo (El. 3.500 m). Serão 11 km com caminhada de aproximadamente 8 a 9 horas. Café da Manhã\, almoço e jantar inclusos.\nAltitude mínima: 2.960 m\nAltitude máxima: 4.200 m\nAltitude do acampamento: 3.500 m\nDia 06 (30/07/2026): 3º. dia de Trilha\n– Sairemos de Pacaymayo\, passando por Runcuracay (Altitude máxima do dia El. 3.900) até chegar em Wiñaywayna (El. 2.650 m). Serão 16 km com caminhada de aproximadamente 8 a 9 horas. Café da Manhã\, almoço e jantar inclusos.\nAltitude mínima: 2.730 m\nAltitude máxima: 3.980 m\nAltitude do acampamento: 2.650 m\nDia 07 (31/07/2026): 4º.  dia de Trilha com MachuPicchu:\n– Sairemos de Wiñaywayna e em 4 km caminhados em aproximadamente 2 horas de caminhada chegaremos a Porta do Sol. Deste local vamos tocar Machu Picchu com os olhos pela primeira vez . Faremos uma visita guiada nesse sítio arqueológico maravilhoso. Café da manhã incluso.\nAltitude mínima: 2.400 m\nAltitude máxima: 2.730 m\n– Após a visita vamos de ônibus para Águas Calientes.\n– Após fazermos check in no hotel teremos o resto do dia livre para passear pelo povoado.\nDia 08 (01/08/2026): Huayna Picchu e retorno à Cusco\n– Retornaremos à Machu Picchu no primeiro horário para subir até Huayna Picchu. Haja coração! É uma súper aventura e teremos mais uma chance de passear pelo sitio Arqueológico de Machu Picchu para absorver melhor as energias desse lugar!\n– No final do dia nos deslocaremos no Trem Expedition em direção à Cusco \, onde será nosso pernoite.\nDia 9 (02/08/2026): Fim do roteiro\n– Transfer do hotel/aeroporto.\n– Voo Cusco/Lima/Guarulhos\n– Fim do Roteiro\n\nNossa turma é limitada a 09 clientes e acompanhada pessoalmente pela Ana Wanke.\nEm nossos acampamentos contamos com barracas refeitório\, ótimos cozinheiros e banheiros. Além disso\, toda a sua bagagem será transportada por nossa equipe de carregadores. \nLEMBRE-SE: As vagas para a Trilha Inca longa são limitadas em 500 pessoas por dia. Para garantir sua vaga\, orientamos que você faça sua reserva com\, no mínimo\, 6 meses de antecedência. E essa reserva é pessoal e intransferível\, então boralá!! \n\nCompartilhe:
URL:https://taperouge.com/roteiro/trilha-inca-e-machu-picchu-2026/
LOCATION:Machu Picchu\, Machu Picchu\, Perú
CATEGORIES:Trekking,Turismo
ATTACH;FMTTYPE=image/jpeg:https://taperouge.com/wp-content/uploads/2018/11/WhatsApp-Image-2019-10-15-at-18.38.50.jpeg
END:VEVENT
END:VCALENDAR