BEGIN:VCALENDAR
VERSION:2.0
PRODID:-//Ana Wanke - ECPv6.15.20//NONSGML v1.0//EN
CALSCALE:GREGORIAN
METHOD:PUBLISH
X-WR-CALNAME:Ana Wanke
X-ORIGINAL-URL:https://taperouge.com
X-WR-CALDESC:Eventos para Ana Wanke
REFRESH-INTERVAL;VALUE=DURATION:PT1H
X-Robots-Tag:noindex
X-PUBLISHED-TTL:PT1H
BEGIN:VTIMEZONE
TZID:America/Sao_Paulo
BEGIN:STANDARD
TZOFFSETFROM:-0300
TZOFFSETTO:-0300
TZNAME:-03
DTSTART:20230101T000000
END:STANDARD
END:VTIMEZONE
BEGIN:VEVENT
DTSTART;TZID=America/Sao_Paulo:20240727T080000
DTEND;TZID=America/Sao_Paulo:20240804T170000
DTSTAMP:20260424T191909
CREATED:20230528T181606Z
LAST-MODIFIED:20240610T200514Z
UID:23133-1722067200-1722790800@taperouge.com
SUMMARY:Trilha Inca e Machu Picchu 2024
DESCRIPTION:Machu Picchu é considerado Patrimônio Cultural e Natural da Humanidade desde 1983. Se quiser fazer parte desta aventura\, tem que ser rápido para garantir sua vaga! A vagas disponíveis para a Trilha Inca são controladas pelo Governo do Peru!!! Para 2024 as vagas encerraram cedo\, mas já estamos de olho em 2025! \nQue tal vir conosco? \nCusco\, Vale Sagrado e Trilha Inca para 2025:  09 a 17 de agosto! \nEnvie já uma mensagem com seu e-mail para lhe informarmos assim que tivermos os valores!\nNossa turma é limitada a 09 clientes e acompanhada pessoalmente pela Ana Wanke.\nEm nossos acampamentos contamos com barracas refeitório\, ótimos cozinheiros e banheiros. Além disso\, toda a sua bagagem será transportada por nossa equipe de carregadores. \nLEMBRE-SE: As vagas para a Trilha Inca longa são limitadas em 500 pessoas por dia. Para garantir sua vaga\, orientamos que você faça sua reserva com\, no mínimo\, 6 meses de antecedência. E essa reserva é pessoal e intransferível\, então bora lá!! \n\nCompartilhe:
URL:https://taperouge.com/roteiro/trilha-inca-e-machu-picchu-2024/
LOCATION:Machu Picchu\, Machu Picchu\, Perú
CATEGORIES:Trekking,Turismo
ATTACH;FMTTYPE=image/jpeg:https://taperouge.com/wp-content/uploads/2018/11/WhatsApp-Image-2019-10-15-at-18.38.50.jpeg
END:VEVENT
END:VCALENDAR