BEGIN:VCALENDAR
VERSION:2.0
PRODID:-//Ana Wanke - ECPv6.15.20//NONSGML v1.0//EN
CALSCALE:GREGORIAN
METHOD:PUBLISH
X-WR-CALNAME:Ana Wanke
X-ORIGINAL-URL:https://taperouge.com
X-WR-CALDESC:Eventos para Ana Wanke
REFRESH-INTERVAL;VALUE=DURATION:PT1H
X-Robots-Tag:noindex
X-PUBLISHED-TTL:PT1H
BEGIN:VTIMEZONE
TZID:America/Sao_Paulo
BEGIN:STANDARD
TZOFFSETFROM:-0300
TZOFFSETTO:-0300
TZNAME:-03
DTSTART:20210101T000000
END:STANDARD
END:VTIMEZONE
BEGIN:VEVENT
DTSTART;TZID=America/Sao_Paulo:20221113T070000
DTEND;TZID=America/Sao_Paulo:20221113T150000
DTSTAMP:20260425T203038
CREATED:20221019T120756Z
LAST-MODIFIED:20221103T182835Z
UID:21802-1668322800-1668351600@taperouge.com
SUMMARY:Caminhada Florada do Kiwi
DESCRIPTION:Nossa caminhada se desenvolverá em São Luiz do Purunã\, na região dos Campos Gerais do Paraná. \nHá apenas 50 Km de Curitiba\, no distrito de Balsa Nova\, vamos ter um dia tranquilo e agradável na natureza\, caminhando e apreciando a bela florada do kiwi. \n\nDia agradável de passeios e piquenique no campo\nNossa caminhada terá 10 km de trilhas por várias paisagens de São Luiz do Purunã\, passando entre propriedades particulares e se estenderá estradas rurais entre bosques e belas propriedades rurais. Toda a caminhada será assistida por carro de apoio.\nVamos ter momentos especiais numa fazenda onde conheceremos todo a propriedade e sua plantação de kiwi que estarão na florada! Vamos caminhar pela propriedade\, chegar a um mirante onde poderemos avistar toda a plantação de kiwi e também o Canion da Faxina.\nE para fechar a caminhada faremos um delicioso piquenique com uma cesta especialmente preparada para nós.\n\nNosso deslocamento até o local de início do roteiro será com carros próprios e nosso local de encontro será na BR277\, de onde seguirmos em comboio até o início da caminhada. \n\nCompartilhe:
URL:https://taperouge.com/roteiro/caminhada-do-kiwi-2/
CATEGORIES:Caminhada,Turismo
ATTACH;FMTTYPE=image/jpeg:https://taperouge.com/wp-content/uploads/2022/10/WhatsApp-Image-2022-10-19-at-11.58.31.jpeg
END:VEVENT
END:VCALENDAR