BEGIN:VCALENDAR
VERSION:2.0
PRODID:-//Ana Wanke - ECPv6.15.20//NONSGML v1.0//EN
CALSCALE:GREGORIAN
METHOD:PUBLISH
X-WR-CALNAME:Ana Wanke
X-ORIGINAL-URL:https://taperouge.com
X-WR-CALDESC:Eventos para Ana Wanke
REFRESH-INTERVAL;VALUE=DURATION:PT1H
X-Robots-Tag:noindex
X-PUBLISHED-TTL:PT1H
BEGIN:VTIMEZONE
TZID:America/Sao_Paulo
BEGIN:STANDARD
TZOFFSETFROM:-0300
TZOFFSETTO:-0300
TZNAME:-03
DTSTART:20210101T000000
END:STANDARD
END:VTIMEZONE
BEGIN:VEVENT
DTSTART;TZID=America/Sao_Paulo:20221127T060000
DTEND;TZID=America/Sao_Paulo:20221205T200000
DTSTAMP:20260425T183817
CREATED:20220225T143629Z
LAST-MODIFIED:20221127T052802Z
UID:20200-1669528800-1670270400@taperouge.com
SUMMARY:Monte Roraima
DESCRIPTION:Encravado no extremo norte do Brasil\, na fronteira com a Guiana e a Venezuela\, o Monte Roraima é uma gigantesca chapada com paredões íngremes de arenito rajado de mais de 500 metros de altura. Venha com Ana Wanke alcançar o topo dessa montanha emblemática e explorar seu visual cinematográfico! \nDetalhamento \n\n1º dia: Às 6h sairemos de van do Hotel em Boa Vista (Brasil) para Santa Elena (Venezuela). Passaremos pela fronteira\, onde teremos que apresentar os documentos tanto para as autoridades brasileiras (registro de saída do Brasil)\, quanto para as autoridades venezuelanas (registro de entrada na Venezuela). Em Santa Elena faremos o câmbio de moeda e a troca de veículo para 4×4 para chegar a Comunidade de Paratepuy\, que será o início da nossa trilha. O jantar será na própria pousada\, com vista para o Monte Roraima. Teremos uma reunião à noite\, para apresentação dos guias e detalhes da expedição. Pernoite em Pousada.\n2º  dia: Após o café da manhã iniciaremos nosso trekking de aproximadamente 5 horas até o acampamento do Rio Kukenã. Sairemos caminhando da própria pousada\, após organizarmos os carregadores. Haverá cerca de 1h aproximadamente para tirar fotos\, reorganizar sua mochila e se preparar para a caminhada de 15 km até o 1º acampamento. Nesse dia atravessaremos 2 rios: Rio Tek e o Kukenã. As informações sobre o dia seguinte serão dadas sempre durante o jantar e pernoite será em barracas no Acampamento do Rio Kukenã.\n3º dias: Café da manhã e saída para a base da montanha\, 9 km de caminhada em 5 horas. Chegada prevista para as 14h00. Alimentação\, reconhecimento da área\, fotos e informações para o dia seguinte. Jantar e pernoite em barracas no Acampamento Base.\n4º dia: Café da manhã e saída às 08h00 rumo ao topo da montanha numa trilha de 4 km com duração entre 4 a 5 horas de subida até o acampamento. Tarde de descanso\, banho nas Jacuzzi e informações para o dia seguinte. Jantar e pernoite. (1ª noite no Topo)\n5º dia:  Café da manhã e saída com destino aos Vales dos Cristais\, Ponto Triplo e o Fosso num percurso de 21km com 4 horas de caminhada na ida e 3\,5 horas de retorno\, intervalo de 1\,5 horas no local para fotos\, reconhecimento das áreas\, descanso e alimentação. Chegada ao acampamento de origem no final da tarde. Para este dia não se leva todo o equipamento\, apenas o essencial para usar durante o dia. Retornar e pernoitar no mesmo acampamento (2ª noite no topo).\n6º dia: Acordaremos cedo para iremos ao Mirante das Ventanas\, onde se tem uma das vistas mais impressionantes do roteiro. Na volta poderemos tomar banho nas famosas Jacuzis. Após o almoço subiremos ao Maverik\, ponto mais alto do Monte Roraima.  (3ª noite no topo).\n7º dia: Antes de iniciarmos nossa descida\, vamos visitar outros mirantes na borda dos paredões do Roraima Tepuy. Para não sobrecarregar os joelhos\, nossa descida será tranquila e vamos pernoitar no Acampamento Base. Vamos fazer uma festa relembrando tudo que passamos no topo.\n8º dia: Caminharemos 10 km rumo ao acampamento do rio Tek após o café da manhã. Almoço será no acampamento. Tarde livre para tomar banho de rio e relaxar. Jantar de Confraternização da última noite de trekking. Ao final do dia\, informações para o dia seguinte e pernoite em barracas no Acampamento do Rio Tek.\n9º dia: Café da manhã e inicio da caminhada rumo à aldeia indígena de Paratepuy. Trecho de 14 km com duração de 04 horas e chegada por volta do meio-dia. Inspeção de rotina pela guarda do Inparques (não se pode trazer pedras\, cristais\, plantas ou animais). Saída em carro 4×4 para a comunidade de São Francisco para desfrutar de um bom almoço e compra de artesanato local. Em Santa Elena trocamos de carro e retornamos ao Brasil (Boa Vista).\n\nDCIM102GOPRODCIM102GOPRO\nCompartilhe:
URL:https://taperouge.com/roteiro/monte-roraima-nov22/
LOCATION:Monte Roraima\, Paratepuy
CATEGORIES:Trekking
ATTACH;FMTTYPE=image/jpeg:https://taperouge.com/wp-content/uploads/2022/02/Capas.jpg
END:VEVENT
END:VCALENDAR