BEGIN:VCALENDAR
VERSION:2.0
PRODID:-//Ana Wanke - ECPv6.15.20//NONSGML v1.0//EN
CALSCALE:GREGORIAN
METHOD:PUBLISH
X-WR-CALNAME:Ana Wanke
X-ORIGINAL-URL:https://taperouge.com
X-WR-CALDESC:Eventos para Ana Wanke
REFRESH-INTERVAL;VALUE=DURATION:PT1H
X-Robots-Tag:noindex
X-PUBLISHED-TTL:PT1H
BEGIN:VTIMEZONE
TZID:America/Sao_Paulo
BEGIN:STANDARD
TZOFFSETFROM:-0300
TZOFFSETTO:-0300
TZNAME:-03
DTSTART:20250101T000000
END:STANDARD
END:VTIMEZONE
BEGIN:VEVENT
DTSTART;TZID=America/Sao_Paulo:20260228T060000
DTEND;TZID=America/Sao_Paulo:20260301T200000
DTSTAMP:20260423T161526
CREATED:20170106T203047Z
LAST-MODIFIED:20250811T210151Z
UID:1382-1772258400-1772395200@taperouge.com
SUMMARY:Guaraqueçaba com Salto Morato e Sebuí
DESCRIPTION:Passear na Baía de Guaraqueçaba é algo indescritível\, significa conhecer as áreas naturais que devem ser preservadas pelo ser humano. É passeando na Baia de Guaraqueçaba que se conhece o ecossistema estuarino-lagunar e entende-se sua importância no equilíbrio ecológico da região. \nVisitaremos a Reserva Natural Salto Morato – (RPPN)\, a qual faz parte de uma área de preservação da Mata Atlântica reconhecida pela UNESCO e pertence a Fundação O Boticário de Proteção à Natureza. Com uma paisagem bastante atrativa\, a reserva conta com infraestrutura para receber visitantes e pesquisadores e também a RPPN do Sebuí\, um dos locais mais preservados do nosso litoral com belas cachoeiras. \n\nSábado: O ninho do Guará: Guaraqueçaba!\nSairemos cedo de Curitiba em direção à Paranaguá\, onde nossa lancha estará nos esperando para nos conduzir à Guaraqueçaba. O trajeto de barco privado e rápido está estimado em 50 minutos.\nAo chegar em Guaraqueçaba\, vamos reforçar nosso café da manhã e depois disso seguiremos de van até a entrada da Reserva Natural Salto Morato para nossa caminhada.\nLá dentro caminharemos por trilhas maravilhosas. Conheceremos o famoso Salto Morato\, uma queda d’água de aproximadamente 100 metros. Será uma caminhada tranquila variando de 3 a 4 horas. Nosso almoço será um delicioso piquenique\, com direito a banho de rio. Pernoitaremos em Guaraqueçaba!\nDomingo: Paraíso do Sebui\nSairemos de barco no horário mais propício da maré até a Reserva Particular do Patrimônio Natural Sebuí\, considerada um dos ambientes naturais mais importantes do mundo\, por seu elevado grau de diversidade de animais e plantas\, além de ser um dos locais mais conservados da Mata Atlântica no Brasil. Muitas surpresas lhe aguardam nessa trilha como cachoeiras\, passarelas sobre mangues\, tanques de águas cristalinas entre outras belezas naturais.\nVoltaremos em tempo para um almoço tardio em Guaraqueçaba. Na sequencia seguiremos de lancha à Paranaguá\, onde nossa van estará nos esperando para nos conduzir diretamente à Curitiba.\n\nDCIM102GOPRO\nCompartilhe:
URL:https://taperouge.com/roteiro/guaraquecaba2026/
LOCATION:Guaraqueçaba\, Guaraqueçaba\, Paraná\, Brasil
CATEGORIES:Caminhada,Trekking,Turismo
ATTACH;FMTTYPE=image/jpeg:https://taperouge.com/wp-content/uploads/2017/01/DSC03569-1.jpg
END:VEVENT
END:VCALENDAR