BEGIN:VCALENDAR
VERSION:2.0
PRODID:-//Ana Wanke - ECPv6.15.20//NONSGML v1.0//EN
CALSCALE:GREGORIAN
METHOD:PUBLISH
X-WR-CALNAME:Ana Wanke
X-ORIGINAL-URL:https://taperouge.com
X-WR-CALDESC:Eventos para Ana Wanke
REFRESH-INTERVAL;VALUE=DURATION:PT1H
X-Robots-Tag:noindex
X-PUBLISHED-TTL:PT1H
BEGIN:VTIMEZONE
TZID:America/Sao_Paulo
BEGIN:STANDARD
TZOFFSETFROM:-0300
TZOFFSETTO:-0300
TZNAME:-03
DTSTART:20240101T000000
END:STANDARD
END:VTIMEZONE
BEGIN:VEVENT
DTSTART;TZID=America/Sao_Paulo:20250101T060000
DTEND;TZID=America/Sao_Paulo:20251231T200000
DTSTAMP:20260424T060241
CREATED:20241120T140556Z
LAST-MODIFIED:20250827T144649Z
UID:27455-1735711200-1767211200@taperouge.com
SUMMARY:Assessoria ao Caminho de Santiago
DESCRIPTION:Você pensa em fazer o Caminho de Santiago\, mas não quer fazer em grupo? Você pode se preparar para fazer o Caminho com muita informação contratando o serviço de assessoria personalizada da Ana Wanke para você fazer seu Caminho com uma estrutura robusta\, escala na qualidade do atendimento e serviços exclusivos. \nO serviço pode ser complementado agregando outros produtos que você pode optar ou não: \n\nReservas de pernoites\nPDFs com o descritivo do dia de caminhada\nDespacho de Bagagem\nAcompanhamento por WhatsApp ao longo do Caminho\n\nMediante o contrato assinado depois do orçamento aprovado\, as seguintes reuniões serão marcadas: \n\nEstudo de etapas do Caminho\nEquipamento\nCuidado com Pés\nDia a Dia no Caminho\nHistória do Caminho de Santiago\n\nCaso tenha interesse\, contate-nos aqui mesmo ou pelo WhatsApp para agendarmos uma entrevista sem compromisso. \n\nCompartilhe:
URL:https://taperouge.com/roteiro/assessoriacs/
LOCATION:Santiago de Compostela\, Santiago de Compostela\, Galícia\, Espanha
CATEGORIES:Montanhismo,Trekking
ATTACH;FMTTYPE=image/jpeg:https://taperouge.com/wp-content/uploads/2024/11/Assessoria.jpg
END:VEVENT
BEGIN:VEVENT
DTSTART;TZID=America/Sao_Paulo:20250319T170000
DTEND;TZID=America/Sao_Paulo:20250329T080000
DTSTAMP:20260424T060241
CREATED:20240614T145908Z
LAST-MODIFIED:20241108T113717Z
UID:25697-1742403600-1743235200@taperouge.com
SUMMARY:Patagonia Chilena 2025
DESCRIPTION:Para 2025 temos uma novidade: Patagônia Chilena\, no Parque Nacional de Torres del Paine. O parque\, que foi declarado Reserva da Biosfera pela UNESCO em 1978 e está então na lista provisória para ser um possível Patrimônio da Humanidade no Chile\, só é acessível por estradas de terra. \n \nFaremos o Circuito W\, que é o trekking mais famoso do Parque Nacional Torres del Paine\, no Chile. Ele abrange a Base das Torres\, o lago Nordenskjold\, a montanha Los Cuernos del Paine\, o Vale do Francês e o mirante do Glaciar Grey. Percorreremos todo o circuito W nos hospedando em refúgios e despois teremos um dia descansando num belo hotel com a vista do maciço. \nO W é um circuito de aproximadamente 76 km no total que corre dentro do Parque Nacional Torres del Paine\, no sul do Chile\, e leva esse nome porque o caminho percorrido pelos viajantes forma a letra W. \nPartindo de barco de Punta Arenas\, teremos a oportunidade de visitar uma pingueira maravilhosa na Isla Magdalena! Isla Magdalena é uma pequena ilha chilena no Estreito de Magalhães\, ainda na Patagônia Chilena. \nA Isla Magdalena é a mais importante colônia de pinguins-de-magalhães do Chile. As aves\, que chegam à soma de mais de 200 mil\, vivem no extremo sul do continente e todos os anos migram para a ilha para se reproduzir. \nQue tal dar uma fugidinha para um dos lugres mais lindos do mundo? Confira o roteiro: \n\nDia 1: 19/03 – Santiago do Chile\n– Nos encontramos no hotel em Santiago\n– Pernoite em Santiago\nDia 2: 20/03 – Transfer para o Parque\n– Voo Santiago/Punta Arenas\n– Transfer privado Punta Arenas/Parque\n– Jantar incluso\n– Pernoite no Refugio Central (quartos coletivos)\nDia 3: 21/03 – Base das Torres\n– Trekking à Base das Torres (1a. perna do Circuito W)\n– Café da manhã\, piquenique e jantar inclusos\n– Pernoite no Refugio Central (quartos coletivos)\nDia 4: 22/03 – Los Cuernos\n– Trekking ao Refugio Los Cuernos\n– Café da manhã\, piquenique e jantar inclusos\n– Pernoite no Refugio Los Cuernos (quartos coletivos)\nDia 5: 23/03 – Vale Francês\n– Trekking ao Refugio Paine Grande\, passando pelo Vale Francês (2a. perna do Circuito W)\n– Café da manhã\, piquenique e jantar inclusos\n– Pernoite no Refugio Paine Grande (quartos coletivos)\nDia 6: 24/03 – Ultimo dia do Circuito W\n– Trekking ao Mirador do Lago Grey (3a. perna do Circuito W) e retorno para Refugio Paine Grande\n– Café da manhã\, piquenique inclusos\n– Transfer por Catamarã ao Porto de Pudeto\n– Caminhada à Hosteria Pehoé\n– Pernoite na Hosteria Pehoé (quartos duplos e triplos)\nDia 7: 25/03 – Transfer para Punta Arenas\n– Caminhada para apreciar a paisagem do maciço\n– Transfer privado da Hosteria até Punta Arenas\n– Pernoite em Punta Arenas (quartos duplos)\nDia 8: 26/03 – Pinguineira\n– Visita à pinguineira na Isla Magdalena\n– Pernoite em Punta Arenas (quartos duplos)\nDia 9: 25/03 – Voo Santiago do Chile\n– Voo Punta Arenas/Santiago do Chile\n– Transfer Hotel/Aeroporto/Hotel\n– Pernoite em Santiago do Chile\nDia 10: 26/03 – Santiago do Chile\n– City Tou em Santiago do Chile\n– Pernoite em Santiago do Chile\nDia 11: 27/03 – Fim do roteiro\n\nO itinerário disponível aqui está sujeito à mudanças devido à condições climáticas\, performance do grupo ou mudanças políticas/administrativas do local em questão. \n\n			\n				\n			\n			\n				\n			\n			\n				\n			\n			\n				\n			\n			\n				\n			\n			\n				\n			\n			\n				\n			\n			\n				\n			\n			\n				\n			\n			\n				\n			\n			\n				\n			\n			\n				\n			\n			\n				\n			\n			\n				\n			\n			\n				\n			\n			\n				\n			\n			\n				\n			\n			\n				\n			\n		\n\nCompartilhe:
URL:https://taperouge.com/roteiro/patagonia-chilena-2025/
CATEGORIES:Caminhada,Trekking,Turismo
ATTACH;FMTTYPE=image/jpeg:https://taperouge.com/wp-content/uploads/2024/06/Capas-1.jpg
END:VEVENT
END:VCALENDAR