BEGIN:VCALENDAR
VERSION:2.0
PRODID:-//Ana Wanke - ECPv6.15.20//NONSGML v1.0//EN
CALSCALE:GREGORIAN
METHOD:PUBLISH
X-ORIGINAL-URL:https://taperouge.com
X-WR-CALDESC:Eventos para Ana Wanke
REFRESH-INTERVAL;VALUE=DURATION:PT1H
X-Robots-Tag:noindex
X-PUBLISHED-TTL:PT1H
BEGIN:VTIMEZONE
TZID:America/Sao_Paulo
BEGIN:STANDARD
TZOFFSETFROM:-0300
TZOFFSETTO:-0300
TZNAME:-03
DTSTART:20210101T000000
END:STANDARD
END:VTIMEZONE
BEGIN:VEVENT
DTSTART;TZID=America/Sao_Paulo:20220625T073000
DTEND;TZID=America/Sao_Paulo:20220626T120000
DTSTAMP:20260426T010715
CREATED:20220307T112531Z
LAST-MODIFIED:20220307T112531Z
UID:20273-1656142200-1656244800@taperouge.com
SUMMARY:Acampamento no Quiriri (Iniciantes)
DESCRIPTION:Que tal acampar em meio à natureza\, a beira de um rio cristalino\, próximo a um local histórico e com um nível de exigência para iniciantes?  \nVerdade\, nossa proposta é passar um final de semana com acampamento selvagem na divisa do Paraná com Santa Catarina\, nos Campos do Quiriri\, região linda e exuberante\, com seus campos e morros que já se tornaram famosos pela beleza cênica\, porém sem grande exigência de preparo físico. \nSe você quer se iniciar na bela arte do trekking e excursionismo\, está começando ou gostaria de fazer um acampamento indicado para iniciantes (mas totalmente selvagem)\, chegou a sua oportunidade! A Ana Wanke Turismo e Aventura vai lhe proporcionar um final de semana para vivenciar este sonho com comodidade e segurança. \nIremos sair sexta-feira (feriado) de Curitiba (deslocamento em carro próprio) até a fazenda de reflorestamento. Subiremos até os campos do Quiriri e iremos acampar a beira da nascente do Rio Negro\, que faz a divisa dos estados de Paraná e Santa Catarina. Ao chegar montaremos o acampamento e faremos uma caminhada para explorar as bordas dos Campos do Quiriri e entender um pouco da história que o envolve. Visitaremos o principal Marco da Divisa\, monumento erguido depois do fim da Guerra do Contestado (conflito de terras entre os Estados do Paraná e Santa Catarina) O Marco da Divida foi inaugurado em 1919 por Affonso Camargo e Hercílio Luz\, governadores do Paraná e Santa Catarina\, respectivamente.  \nNo sábado veremos o amanhecer de um mirante muito especial com uma vista privilegiada do litoral dos estados do Paraná e Santa Catarina. Voltaremos para tomar um delicioso café da manhã no acampamento. Depois de desmontar o acampamento\, visitaremos outros 2 Marcos da Divisa antes de retornarmos para Curitiba onde chegaremos em tempo de almoçar com nossos familiares.  \nCurtiu? Bora colocar a mochila nas costas e se preparar para viver uma grande aventura conosco! \n\nCompartilhe:
URL:https://taperouge.com/roteiro/acampamento-no-quiriri-iniciantes-2/
LOCATION:Quiriri\, Quiriri\, Tijucas do Sul
CATEGORIES:Trekking
ATTACH;FMTTYPE=image/jpeg:https://taperouge.com/wp-content/uploads/2022/01/Copia-de-MARCO-2021-4.jpg
END:VEVENT
END:VCALENDAR