BEGIN:VCALENDAR
VERSION:2.0
PRODID:-//Ana Wanke - ECPv6.15.20//NONSGML v1.0//EN
CALSCALE:GREGORIAN
METHOD:PUBLISH
X-WR-CALNAME:Ana Wanke
X-ORIGINAL-URL:https://taperouge.com
X-WR-CALDESC:Eventos para Ana Wanke
REFRESH-INTERVAL;VALUE=DURATION:PT1H
X-Robots-Tag:noindex
X-PUBLISHED-TTL:PT1H
BEGIN:VTIMEZONE
TZID:America/Sao_Paulo
BEGIN:STANDARD
TZOFFSETFROM:-0300
TZOFFSETTO:-0300
TZNAME:-03
DTSTART:20220101T000000
END:STANDARD
END:VTIMEZONE
BEGIN:VEVENT
DTSTART;TZID=America/Sao_Paulo:20230826T130000
DTEND;TZID=America/Sao_Paulo:20230908T120000
DTSTAMP:20260425T075106
CREATED:20220413T114224Z
LAST-MODIFIED:20230830T070002Z
UID:20611-1693054800-1694174400@taperouge.com
SUMMARY:Caminho de Santiago Português
DESCRIPTION:GRUPO PRIVADO \nOs Caminhos de Santiago são os percursos percorridos pelos peregrinos que afluem a Santiago de Compostela desde o século IX para venerar as relíquias do apóstolo Santiago Maior\, cujo suposto sepulcro se encontra na catedral de Santiago de Compostela. A peregrinação foi uma das mais concorridas da Europa medieval\, cuja importância só era superada pela Via Francigena (com destino a Roma) e Jerusalém\, sendo concedida indulgência plena a quem a fizesse. Depois de vários séculos relativamente esquecida\, desde os anos 1980 que a popularidade da peregrinação tem vindo a crescer substancialmente\, embora grande parte das pessoas que fazem o Caminho — nome pelo qual é também conhecida a peregrinação — atualmente não o façam por motivos religiosos. \nO Caminho tornou-se um itinerário espiritual e cultural de primeira ordem\, que é percorrido por dezenas ou centenas de milhares de pessoas todos os anos. Foi declarado Primeiro Itinerário Cultural Europeu em 1987 e Patrimônio da Humanidade (na Espanha em 1993 e na França em 1998). \nVamos levar você pela rota portuguesa\, ou seja\, pelo Caminho Português. Aliás a Língua Galega\, falada na Galícia\, é a mãe da nossa querida Língua Portuguesa. Vamos em busca da nossa origem… \n\nDia 1 (26/agosto/2023): Chegada em Porto. Pernoite em Porto.\nDia 2: City Tour em Porto. Pernoite em Porto\nDia 3: Transfer de Porto à Pontes de Lima\, com visita à Barcelos. Pernoite em Pontes de Lima\nDia 4: Caminhada da Ponte de Lima a Rubiães (20 km) Pernoite em Rubiães.\nDia 5: Caminhada de Rubiães a Tui (23 km) Deslocamento e visita a Vila fortificada de Valença e as ruas do burgo medieval de Tui. Pernoite em Tui.\nDia 6: Caminhada de Tui a Porriño (17 km km) Pernoite em Porriño\, em albergue tipo capsula\, com roupa de cama e toalha.\nDia 7: Caminhada de Porriño a Cesantes (19 km) Pernoite em um hotel na beira da praia.\nDia 8: Caminhada de Cesantes a Pontevedra  (17 km) Pernoite em Pontevedra\, uma cidade histórica\, com várias curiosidades para serem descobertas.\nDia 9: Caminhada de Pontevedra a Caldas de Reys (21 km) Pernoite em Holtel balneário em Caldas de Reys\, balneário de águas termais.\nDia 10: Caminhada de Calda de Reys a Padron (19 km)\nDia 11: Caminhada de Padrón a Santiago de Compostela (25\,00 km) Pernoite em Santiago de Compostela. Visita pelo Casco Antigo da Santiago\nDia 12: Tour por Santiago Visita guiada na Catedral nos telhados e Visita guiada dentro da Catedral de Santiago. Jantar de Despedida.  Pernoite em Santiago de Compostela.\nDia 13: Visita a Finisterra e Muxia  Pernoite em Santiago de Compostela\, Jantar de despedida. Pernoite em Santiago de Compostela.\nDia 14 (8/setembro/2023): Fim do roteiro\n\n\nCompartilhe:
URL:https://taperouge.com/roteiro/caminho-de-santiago-portugues2023/
LOCATION:Santiago de Compostela\, Santiago de Compostela\, Galícia\, Espanha
CATEGORIES:Caminhada
ATTACH;FMTTYPE=image/jpeg:https://taperouge.com/wp-content/uploads/2022/04/Capa_Portugues.jpeg
END:VEVENT
END:VCALENDAR