BEGIN:VCALENDAR
VERSION:2.0
PRODID:-//Ana Wanke - ECPv6.15.20//NONSGML v1.0//EN
CALSCALE:GREGORIAN
METHOD:PUBLISH
X-ORIGINAL-URL:https://taperouge.com
X-WR-CALDESC:Eventos para Ana Wanke
REFRESH-INTERVAL;VALUE=DURATION:PT1H
X-Robots-Tag:noindex
X-PUBLISHED-TTL:PT1H
BEGIN:VTIMEZONE
TZID:America/Sao_Paulo
BEGIN:STANDARD
TZOFFSETFROM:-0300
TZOFFSETTO:-0300
TZNAME:-03
DTSTART:20240101T000000
END:STANDARD
END:VTIMEZONE
BEGIN:VEVENT
DTSTART;TZID=America/Sao_Paulo:20251010T140000
DTEND;TZID=America/Sao_Paulo:20251012T233000
DTSTAMP:20260423T212504
CREATED:20220609T140440Z
LAST-MODIFIED:20250721T124834Z
UID:21267-1760104800-1760311800@taperouge.com
SUMMARY:Pico do Rinoceronte e Cânion do Funil
DESCRIPTION:Neste roteiro iremos conhecer várias atrações encantadoras da serra catarinense: o Pico do Rinoceronte\, Cânion do Funil e a famosa Serra do Rio do Rastro\, uma verdadeira obra prima da engenharia e da natureza. Iremos explorar a bela Serra Geral catarinense\, com suas vistas da planície\, cânions impressionantes e maravilhosas formações rochosas. \n\nDia 1 (sexta-feira): Sairemos de Curitiba 14h0 e nos deslocaremos até nosso hotel em Bom Jardim da Serra. \nDia 2 (sábado): Iremos acordar cedo e logo após o café da manhã partiremos para o hiking ao Pico do Rinoceronte. A caminhada de cerca de 14 km (7 para ir e 7 para voltar) é moderada superior\, por trilhas e campos de altitude. A formação rochosa do Pico do Rinoceronte ganhou este nome por lembrar a silhueta da cabeça do animal\, conforme o ângulo de observação. Fica bem na borda da Serra Geral. A parte superior composta por campos pertence ao município de Bom Jardim da Serra\, já da borda do penhasco para baixo pertence ao município de Siderópolis\, onde a mata serrana é que domina a paisagem. A vista da chegada é fantástica\, assim como a vista de cima das pedras do pico. Pode-se observar a planície litorânea de Santa Catarina\, com destaque para a Barragem do Rio São Bento\, e as cidades de Criciúma\, Nova Veneza e Siderópolis. Faremos nosso piquenique desfrutando destas paisagens belíssimas.  Retorno para Bom Jardim da Serra e jantar na cidade.\nDia 3 (domingo): Será o dia da nossa caminhada no Cânion do funil. É um dos cânions mais bonitos da Serra Geral\, e junto com o Cânion das Laranjeiras e da Ronda formam uma trinca de belezas exuberantes na região próxima a Serra do Rio do Rastro. Faremos uma trilha de 4 km (2 para ir e 2 para voltar) por campos de altitude até a borda do cânion. A caminhada é praticamente no plano. Em seguida iremos retornar para Curitiba descendo pela estrada da Serra do Rio do Rastro\, que é um dos principais atrativos da região.\n\nDCIM105GOPROGOPR9396.JPG\nCompartilhe:
URL:https://taperouge.com/roteiro/pico_do_rinoceronte25/
LOCATION:Bom Jardim da Serra (SC)\, Bom Jardim da Serra\, Santa Catarina\, Brasil
CATEGORIES:Caminhada,Montanhismo,Trekking
ATTACH;FMTTYPE=image/jpeg:https://taperouge.com/wp-content/uploads/2022/01/Copia-de-MARCO-2021-3.jpg
END:VEVENT
BEGIN:VEVENT
DTSTART;TZID=America/Sao_Paulo:20251021T140000
DTEND;TZID=America/Sao_Paulo:20251026T200000
DTSTAMP:20260423T212504
CREATED:20241111T143624Z
LAST-MODIFIED:20250626T193643Z
UID:27231-1761055200-1761508800@taperouge.com
SUMMARY:Vale Europeu 2025
DESCRIPTION:São percursos que você irá desfrutar do contato com o povo hospitaleiro e o dia a dia do homem com a lida nos campos. Cada dia será uma nova aventura\, pois a arquitetura e os atrativos naturais como corredeiras\, cachoeiras\, montes\, montanhas\, rios e riachos\, enfim a flora e a fauna irão te acompanhar pelos mais diversos cantos e recantos  do Vale Europeu. \nVamos nos hospedar em hotéis e pousadas\, em quartos duplos e triplos com banheiro privativo\, com bastante conforto para você poder se recuperar da caminhada do dia e estar pronto para o dia seguinte. \nDependendo da disposição do grupo adicionaremos passeios adicionais para visitar cervejarias artesanais e cachoeiras ao redor da cidade. \nConfira a programação: \n\nDia 1 – Saída: Às 14h00 sairemos de van de Curitiba rumo à Timbó. A cidade tem várias atrações turísticas e tem colonização Alemanha. Chegaremos em tempo de jantar em um lugar típico e conhecer esse tipo de construção muito pitoresco. Nos hospedaremos num hotel confortável e aconchegante em Timbó;\nDia 2 – Pomerode a Rio dos Cedros: Serão 18 km de caminhada de Pomerode\, de descendência alemã\, até Rio dos Cedros\, de descendência italiana\, que hora será por trechos de paralelepípedos\, ora com asfalto\, ora com estrada de chão. É o trecho mais urbano de todo o roteiro. Passaremos caminhando pela Casa do Imigrante Carl Weege\, uma belíssima e preservada casa museu que vale uma visita. Será um dia relativamente tranquilo. Ao final da caminhada nossa van de apoio estará nos esperando para nos levar ao nosso hotel em Timbó;\nDia 3 – Rio dos Cedros a Benedito Novo: Serão 23 km bem caminhados\, com bastante altimetria neste Vale Europeu. Será o dia mais puxado de todo o roteiro. Ao longo da caminhada veremos como é a vida no campo principalmente dos descendentes de italianos\, predominantes nesta região. No caminho será difícil encontrar qualquer estrutura\, por isso nosso carro de apoio estará acompanhando com bastante água e lanchinho de trilha. Nosso pernoite nesta e nas 2 próximas noites será na mesma pousada. Ao redor de Dr.Pedrinho existem muitas cachoeiras para visitarmos. Assim todos os dias que nos hospedarmos lá teremos oportunidade de visitar uma cachoeira diferente\, dependendo da disposição do grupo;\nDia 4 – Benedito Novo a (quase) Dr.Pedrinho: Neste trecho de 20 km passaremos por paisagens bucólicas\, ribeirões\, agricultura de subsistência bem comum no Vale Europeu\, e faremos uma parada especial para o nosso piquenique. Nosso pernoite será no mesmo lugar da noite anterior. Assim a nossa van vai nos “resgatar” no final da caminhada e levar para nossa pousada e nos deixar no dia seguinte no mesmo lugar.\nDia 5 – Dr. Pedrinho a Scheila Daiane: São 25 km de estradas secundárias e sinuosas\, cortando vários pequenos córregos. Terminaremos o dia de caminhada numa pequena comunidade onde não há lugar para pernoite. Por isso voltaremos a terceira noite na mesma pousada em Dr.Pedrinho\, onde também teremos nosso jantar.\nDia 6 – Chegada no Zinco e retorno a Curitiba: Nosso último trecho de caminhada pelo Vale Europeu é de 12 km. Reservamos para o final do nosso roteiro uma das mais belas paisagens de todo o caminho: A Cachoeira do Zinco. No retorno passaremos pelo Caminho dos Anjos\,  obra do agricultor Paulo Notari que contempla o Cristo Redentor\, os Anjos e as flores. Em seguida iniciaremos o retorno para Curitiba.\n\n\n			\n				\n			\n			\n				\n			\n			\n				\n			\n			\n				\n			\n			\n				\n			\n			\n				\n			\n			\n				\n			\n			\n				\n			\n			\n				\n			\n			\n				\n			\n		\n\nCompartilhe:
URL:https://taperouge.com/roteiro/vale-europeu-25/
CATEGORIES:Caminhada,Turismo
ATTACH;FMTTYPE=image/jpeg:https://taperouge.com/wp-content/uploads/2021/05/Copia-de-MARCO-2021.jpg
END:VEVENT
END:VCALENDAR