BEGIN:VCALENDAR
VERSION:2.0
PRODID:-//Ana Wanke - ECPv6.15.20//NONSGML v1.0//EN
CALSCALE:GREGORIAN
METHOD:PUBLISH
X-WR-CALNAME:Ana Wanke
X-ORIGINAL-URL:https://taperouge.com
X-WR-CALDESC:Eventos para Ana Wanke
REFRESH-INTERVAL;VALUE=DURATION:PT1H
X-Robots-Tag:noindex
X-PUBLISHED-TTL:PT1H
BEGIN:VTIMEZONE
TZID:America/Sao_Paulo
BEGIN:STANDARD
TZOFFSETFROM:-0300
TZOFFSETTO:-0300
TZNAME:-03
DTSTART:20240101T000000
END:STANDARD
END:VTIMEZONE
BEGIN:VEVENT
DTSTART;TZID=America/Sao_Paulo:20250426T070000
DTEND;TZID=America/Sao_Paulo:20250502T190000
DTSTAMP:20260424T033132
CREATED:20240426T200239Z
LAST-MODIFIED:20250224T141811Z
UID:25300-1745650800-1746212400@taperouge.com
SUMMARY:Caminho da Fé desde Paraisópolis
DESCRIPTION:Iremos percorrer o trecho desde Paraisópolis (MG) até o Santuário Nacional de Aparecida\, cruzando a Serra da Mantiqueira e a Estrada de Pedrinhas\, pelo Caminho da Fé. \nEste é o caminho no Brasil que mais se assemelha ao Caminho de Santiago na Espanha. \nNeste caminho a hospedagem é simples a comida é caseira\, a caminhada é longa e a recompensa é Divina! \n\nSábado (26/abril): Deslocamento de Curitiba (PR) a Paraisópolis (MG)\, com parada no Aeroporto de Guarulhos (SP).\nDomingo (27/abril): Percorreremos cerca de 23 km de Paraisópolis até a Luminosa\, com acompanhamento de carro de apoio. Nosso pernoite é em pousada de peregrinos\, com dormitório coletivo.\nSegunda-feira (28/abril): Percorreremos cerca de 18 km até a Pousada Barão Montês\, com lanche de trilha incluso. Esse é o dia da Subida da Luminosa. O pernoite é em alojamento coletivo.\nTerça-feira (29/abril): Percorreremos cerca de 24 km até Campos do Jordão. Ficaremos em quartos duplos e triplos\, do ladinho da Cervejaria Baden Baden!!\nQuarta-feira (30/abril): Percorreremos cerca de 27 km\, descendo pela linda e famosa Estrada de Pedrinhas. Chegaremos numa pousada onde passa um rio onde poderemos ficar com os pés na água descansando.\nQuinta-feira (01/maio): Percorreremos cerca de 24 km até chegarmos ao Santuário Nacional de Aparecida. Lá assistiremos a missa (opcional) e teremos tempo para visitar o local\, almoçarmos e retirarmos o certificado de conclusão do Caminho da Fé. Pernoite em Aparecida.\nSexta-feira (02/maio): Retorno à Curitiba após café da manhã.\n\nO Caminho da Fé (Brasil)\, inspirado no milenar Caminho de Santiago de Compostela (Espanha)\, foi criado para dar estrutura às pessoas que sempre fizeram peregrinação ao Santuário Nacional de Aparecida\, oferecendo-lhes os necessários pontos de apoio. Venha caminhar e se emocionar nessa jornada com apoio\, segurança e comodidade da estrutura que a Ana Wanke Turismo e Aventura costuma lhe oferecer. \n\nCompartilhe:
URL:https://taperouge.com/roteiro/caminho-da-fe-abril-2025/
LOCATION:Santuário Nacional de Aparecida\, Aparecida\, São Paulo\, Brasil
CATEGORIES:Caminhada
ATTACH;FMTTYPE=image/jpeg:https://taperouge.com/wp-content/uploads/2017/02/COLONIA.jpg
END:VEVENT
BEGIN:VEVENT
DTSTART;TZID=America/Sao_Paulo:20250510T063000
DTEND;TZID=America/Sao_Paulo:20250510T183000
DTSTAMP:20260424T033132
CREATED:20220102T142851Z
LAST-MODIFIED:20250204T001133Z
UID:19566-1746858600-1746901800@taperouge.com
SUMMARY:Caminhada das Lavandas 2025
DESCRIPTION:Na véspera do dia das mães\, a caminhada será nos Campos Gerais\, em meio a cultura holandesa. Caminharemos cerca de 7 km com carro de apoio e no final da caminhada visitaremos um lindo campo de lavandas. Você se sentirá na Provence em plena florada de lavandas! Teremos oportunidade de comprar queijos artesanais de alto padrão e produtos a base de lavanda. \nNosso almoço será um misto entre a culinária holandesa e hindonesiana. A indonésia fez parte do Império Colonial Holandês por três séculos e sua cultura se vê refletida na influência culinária. \nApós o almoço visitaremos outro lavandário\, onde teremos uma aula sobre os tipos de lavandas e mais oportunidades de ver\, sentir e fotografar as lavandas. Também aqui teremos a oportunidade de comprar produtos a base de lavandas e saborear um delicioso sorvete de lavanda. \nSerá uma delícia de roteiro\, passando pela Holanda\, França e Indonésia sem mesmo sair do Paraná!! \n\n\nCompartilhe:
URL:https://taperouge.com/roteiro/caminhada-das-lavandas2025/
LOCATION:Carambeí\, Carambeí\, Paraná\, Brasil
CATEGORIES:Caminhada,Turismo
ATTACH;FMTTYPE=image/jpeg:https://taperouge.com/wp-content/uploads/2022/01/MARCO-2021.jpg
END:VEVENT
END:VCALENDAR