BEGIN:VCALENDAR
VERSION:2.0
PRODID:-//Ana Wanke - ECPv6.15.20//NONSGML v1.0//EN
CALSCALE:GREGORIAN
METHOD:PUBLISH
X-WR-CALNAME:Ana Wanke
X-ORIGINAL-URL:https://taperouge.com
X-WR-CALDESC:Eventos para Ana Wanke
REFRESH-INTERVAL;VALUE=DURATION:PT1H
X-Robots-Tag:noindex
X-PUBLISHED-TTL:PT1H
BEGIN:VTIMEZONE
TZID:America/Sao_Paulo
BEGIN:STANDARD
TZOFFSETFROM:-0300
TZOFFSETTO:-0300
TZNAME:-03
DTSTART:20230101T000000
END:STANDARD
END:VTIMEZONE
BEGIN:VEVENT
DTSTART;TZID=America/Sao_Paulo:20240908T130000
DTEND;TZID=America/Sao_Paulo:20241016T120000
DTSTAMP:20260424T123242
CREATED:20230528T001606Z
LAST-MODIFIED:20240409T135701Z
UID:23090-1725800400-1729080000@taperouge.com
SUMMARY:Caminho de Santiago Francês Completo 2024
DESCRIPTION:Os Caminhos de Santiago são os percursos percorridos pelos peregrinos que afluem a Santiago de Compostela desde o século IX para venerar as relíquias do apóstolo Santiago Maior\, cujo suposto sepulcro se encontra na catedral de Santiago de Compostela. A peregrinação foi uma das mais concorridas da Europa medieval\, cuja importância só era superada pela Via Francigena (com destino a Roma) e Jerusalém\, sendo concedida indulgência plena a quem a fizesse. Depois de vários séculos relativamente esquecida\, desde os anos 1980 que a popularidade da peregrinação tem vindo a crescer substancialmente\, embora grande parte das pessoas que fazem o Caminho — nome pelo qual é também conhecida a peregrinação — atualmente não o façam por motivos religiosos. \nO Caminho tornou-se um itinerário espiritual e cultural de primeira ordem\, que é percorrido por dezenas ou centenas de milhares de pessoas todos os anos. Foi declarado Primeiro Itinerário Cultural Europeu em 1987 e Patrimônio da Humanidade (na Espanha em 1993 e na França em 1998). \nVamos levar você pela rota mais tradicional\, o Caminho Francês\, ficando em albergues: \n\n08/set: Transfer Pamplona – Saint Jean Pied du Port\, com pernoite em albergue.\n09/set: Início da nossa peregrinação de quase 800 km com a subida dos Pirineus. Pernoite no Albergue de Orisson\n09/set a 12/set: Percorreremos o caminho ficando em albergues e dia 12/set chegaremos em Pamplona\, onde nos hospedaremos em hotel\n21/set: Chegaremos em Burgos\, onde ficaremos em hotel. Neste ponto já teremos percorrido 287 km em 13 dias de caminhada.\n22/set: Day off en Burgos! Nós merecemos!!\n22/set a 29/set: Percorreremos as famosas mesetas entre Burgos e Leon. Pernoite em hotel em Leon. Neste ponto já teremos percorrido 466 km.\n06/out: Chegaremos ao emblemático Cebreiro\, povoado celta edificado todo em pedra. Nosso pernoite será em pousada.\n09/out: Passaremos caminhando pelo “marco 100”\, ou seja\, faltarão apenas 100 km para chegar a Santiago.\n13/out: Chegada a Santiago. Pernoite em Santiago de Compostela. Visita guiada pela cidade antiga de Santiago. Pernoite em Santiago de Compostela\n14/out: Visita aos Telhados da Catedral de Santiago de Compostela e visita guiada dentro da Catedral.\n15/out: Visita a Finisterra\, Muxia e Cascata de Ézaro. Jantar de despedida.\n16/out: Fim do roteiro.\n\nSerão 39 dias de roteiro\, 779km a serem caminhados em 35 dias (sem contar os passeios nas cidades kkk)\, acompanhados integralmente e pessoalmente por Ana Wanke.\nQualquer dúvida entre em contato diretamente comigo no whatsapp (41) 99282 5749 Ana Wanke. \n\nCompartilhe:
URL:https://taperouge.com/roteiro/caminho-de-santiago-frances-completo-2024/
LOCATION:Santiago de Compostela\, Santiago de Compostela\, Galícia\, Espanha
CATEGORIES:Caminhada
ATTACH;FMTTYPE=image/jpeg:https://taperouge.com/wp-content/uploads/2023/05/Capas-1.jpg
END:VEVENT
BEGIN:VEVENT
DTSTART;TZID=America/Sao_Paulo:20241029T140000
DTEND;TZID=America/Sao_Paulo:20241103T200000
DTSTAMP:20260424T123242
CREATED:20210523T171537Z
LAST-MODIFIED:20240410T122734Z
UID:16650-1730210400-1730664000@taperouge.com
SUMMARY:Vale Europeu
DESCRIPTION:São percursos que você irá desfrutar do contato com o povo hospitaleiro e o dia a dia do homem com a lida nos campos. Cada dia será uma nova aventura\, pois a arquitetura e os atrativos naturais como corredeiras\, cachoeiras\, montes\, montanhas\, rios e riachos\, enfim a flora e a fauna irão te acompanhar pelos mais diversos cantos e recantos  do Vale Europeu. \nFaremos 100 km no total\, ou seja\, a metade do Circuito de Mochileiros do Vale das Águas nos caminhos do Vale Europeu. Escolhemos o filé mignon deste roteiro. \nVamos nos hospedar em hotéis e pousadas\, em quartos duplos e triplos com banheiro privativo\, com bastante conforto para você poder se recuperar da caminhada do dia e estar pronto para o dia seguinte. \nDependendo da disposição do grupo adicionaremos passeios adicionais para visitar cervejarias artesanais e cachoeiras ao redor da cidade. \nConfira a programação: \n\nDia 1 – Saída: Às 14h00 sairemos de van de Curitiba rumo à Pomerode\, a cidade possui a maior concentração de casas em Enxaimel fora da Alemanha. Chegaremos em tempo de jantar em um lugar típico e conhecer esse tipo de construção muito pitoresco. Nos hospedaremos numa pousada confortável e aconchegante em Pomerode;\nDia 2 – Pomerode a Rio dos Cedros: Serão 18 km de caminhada de Pomerode\, de descendência alemã. até Rio dos Cedros\, de descendência italiana\, que às vezes será por trechos de paralelepípedos\, às vezes por asfalto\, e outras vezes por estrada de chão. É o trecho mais urbano de todo o roteiro. Será um dia relativamente tranquilo. Ao final da caminhada almoçaremos na cidade e retornaremos em nossa van de apoio estará nos esperando para nos levar ao nossa pousada em Pomerode;\nDia 3 – Rio dos Cedro a Benedito Novo: Serão 23 km bem caminhados\, com bastante altimetria neste Vale Europeu. Será o dia mais puxado de todo o roteiro. Ao longo da caminhada veremos como é a vida no campo principalmente dos descendentes de italianos\, predominantes nesta região. Visitaremos um charmoso atelier para comprar produtos exclusivos e lá mesmo será  servido um café colonial. Nosso pernoite nessa e nas 2 próximas noites será na mesma pousada. Ao redor de de Dr.Pedrinho existem muitas cachoeiras para visitarmos. Assim todos os dias que nos hospedarmos lá teremos oportunidade de visitar uma cachoeira diferente\, dependendo da disposição do grupo;\nDia 4 – Benedito Novo a (quase) Dr.Pedrinho: Neste trecho de 20 km passaremos por paisagens bucólicas\, ribeirões\, agricultura de subsistência bem comum no Vale Europeu\, e nosso almoço será em um piquenique. Nosso pernoite será no mesmo lugar que da noite anterior. Assim a nossa van vai nos “resgatar” no final da caminhada e levar para nosso pousada e nos deixar no dia seguinte no mesmo lugar.\nDia 5 – Dr. Pedrinho a Scheila Daiane: São 25 km de estradas secundárias e sinuosas\, cortando vários pequenos córregos. Faremos nosso piquenique ao lado de um rio aonde poderemos refrescar os pés.  Terminaremos o dia de caminhada numa pequena comunidade onde não há lugar para pernoite. Por isso voltaremos a terceira noite na mesma pousada em Dr.Pedrinho\, onde também teremos nosso jantar.\nDia 6 – chegada no Zinco e retorno: Nosso último trecho de caminhada pelo Vale Europeu é de 10 km. Reservamos para o final do nosso roteiro uma das mais belas paisagens de todo o caminho: A Cachoeira do Zinco. Faremos nosso almoço na pousada que leva o nome da Cachoeira e de lá seguimos de volta para casa.\n\n\n  \nCompartilhe:
URL:https://taperouge.com/roteiro/vale-europeu-24/
CATEGORIES:Caminhada,Turismo
ATTACH;FMTTYPE=image/jpeg:https://taperouge.com/wp-content/uploads/2021/05/Copia-de-MARCO-2021.jpg
END:VEVENT
END:VCALENDAR