BEGIN:VCALENDAR
VERSION:2.0
PRODID:-//Ana Wanke - ECPv6.15.20//NONSGML v1.0//EN
CALSCALE:GREGORIAN
METHOD:PUBLISH
X-ORIGINAL-URL:https://taperouge.com
X-WR-CALDESC:Eventos para Ana Wanke
REFRESH-INTERVAL;VALUE=DURATION:PT1H
X-Robots-Tag:noindex
X-PUBLISHED-TTL:PT1H
BEGIN:VTIMEZONE
TZID:America/Sao_Paulo
BEGIN:STANDARD
TZOFFSETFROM:-0300
TZOFFSETTO:-0300
TZNAME:-03
DTSTART:20250101T000000
END:STANDARD
END:VTIMEZONE
BEGIN:VEVENT
DTSTART;TZID=America/Sao_Paulo:20260514T130000
DTEND;TZID=America/Sao_Paulo:20260622T100000
DTSTAMP:20260423T161402
CREATED:20231026T183239Z
LAST-MODIFIED:20250822T125807Z
UID:24032-1778763600-1782122400@taperouge.com
SUMMARY:Caminho de Santiago Francês Completo 2026
DESCRIPTION:Venha descobrir o Caminho de Santiago com Ana Wanke\, uma experiente peregrina que já percorreu essa jornada milenar mais de 15 vezes! \nAntigamente\, o Caminho de Santiago era uma oportunidade de penitência e troca de indulgências\, mas hoje se transformou em uma experiência rica em autoconhecimento\, cultura e interação social. \nJunte-se a nós nessa aventura emocionante\, onde você não apenas caminha por paisagens deslumbrantes\, mas também se conecta consigo mesmo e com outros peregrinos. Acompanhe Ana em momentos de reflexão\, aprendizado e troca de histórias\, enquanto percorremos trilhas repletas de história e significado. \nVamos levar você pela rota mais tradicional\, o Caminho de Santiago Francês\, ficando em albergues\, hostéis e hotéis: \n\n14/maio: Transfer Pamplona – Saint Jean Pied du Port\, com pernoite em albergue.\n15/maio: Início da nossa peregrinação de quase 800 km com a subida dos Pirineus.\n27/maio: Chegaremos em Burgos\, onde ficaremos em hotel. Neste ponto já teremos percorrido 287 km em 13 dias de caminhada.\n28/maio: Day off en Burgos! Nós merecemos!!\n29/maio a 04/junho: Percorreremos as famosas mesetas entre Burgos e Leon. Neste ponto já teremos percorrido 466 km.\n12/junho: Chegaremos ao emblemático Cebreiro\, povoado celta edificado todo em pedra.\n19/junho: Chegada em Santiago de Compostela. Missa do grupo com Botafumeiro!!\n23/jun: Visita aos Telhados da Catedral e ao “Casco Antigo” Santiago de Compostela e visita guiada dentro da Catedral.\n24/jun: Visita a Finisterra e Muxia. Jantar de despedida. Cerimônia da Queimada.\n25/jun: Fim do roteiro.\n\nSerão 40 dias de roteiro\, 779km a serem caminhados em 36 dias no Caminho de Santiago Grancês\, acompanhados pessoalmente por Ana Wanke.\nQualquer dúvida entre em contato diretamente comigo no whatsapp (41) 99282 5749 Ana Wanke. \n\nCompartilhe:
URL:https://taperouge.com/roteiro/caminho-de-santiago-frances-completo-2026/
LOCATION:Santiago de Compostela\, Santiago de Compostela\, Galícia\, Espanha
CATEGORIES:Caminhada
ATTACH;FMTTYPE=image/jpeg:https://taperouge.com/wp-content/uploads/2023/05/Capas-1.jpg
END:VEVENT
BEGIN:VEVENT
DTSTART;TZID=America/Sao_Paulo:20260613T150000
DTEND;TZID=America/Sao_Paulo:20260620T123000
DTSTAMP:20260423T161402
CREATED:20250721T125940Z
LAST-MODIFIED:20250721T130419Z
UID:34772-1781362800-1781958600@taperouge.com
SUMMARY:Travessia dos Lençóis Maranhenses 2026
DESCRIPTION:Difícil descrever a imensidão da paisagem e a felicidade que nos invade perante ao cenário do Parque Nacional dos Lençóis Maranhenses. \nOs Lençóis Maranhenses são únicos. Está inserido numa região composta de dunas\, mangues\, rios e lagoas formadas pela água da chuva que\, juntos\, nos presenteiam com um cenário único em todo o mundo. \nQue tal conhecer este paraíso de uma maneira especial: Caminhando! \n\nDia 1 – Chegada: Às 15h00 teremos o transfer do Aeroporto de São Luís do Maranhão para Barreirinhas. Pernoite em Pousada em Barreirinhas;\nDia 2 – Passeio: Faremos um passeio ao Circuito da Lagoa Bonita e Lagoa Azul\, onde teremos nosso primeiro contato com os Lençóis Maranhenses. O passeio será puro deleite! Pernoite em Barreirinhas;\nDia 3 – Transfer e Passeio: Faremos um passeio pelo Rio Preguiças\, já com nossas mochilas pois nosso destino será Atins onde pernoitaremos. Nesse passeio veremos a vegetação constituída de palmeiras e mangues em suas margens. A nossa primeira parada é em Vassouras (Pequenos Lençóis). Seguiremos Rio abaixo até o povoado de Mandacaru onde está localizado o Farol das Preguiças. Subiremos o farol\, de onde é possível ter uma visão privilegiada da região\, de lá veremos as dunas\, o Rio\, sua foz\, o oceano e a vegetação típica. Após a visita ao Farol a lancha seguirá a praia do Caburé\, parada para almoço (não incluso)\, os Restaurantes servem ótimos pratos à base de frutos do mar\, após descanso nas redes podemos caminhar pela beira da praia ou pelo Rio Preguiças. Pernoite em Pousada em Atins;\nDia 4 – 1º dia de travessia: Pela manhã\, bem cedo após o café da manhã\, nos deslocaremos em veículo 4×4 até a foz do Rio Negro. A caminhada será de 8 km\, cruzando várias dunas e atravessando lagoas doces até chegarmos ao Oásis Baixa Grande. Aproveitaremos para tomar muitos banhos em lagoas ao longo do caminho. O por do sol será num mirante especial e de muita beleza cênica. Pernoite em redes Baixa Grande.\nDia 5 – 2º dia de travessia: Será um dia só para curtir as lagos as redor do Oásis Baixa Grande! Delícia pura!! Pernoite em redes Baixa Grande.\nDia 6 – 3º dia de travessia: Sairemos cedo\, após o café da manhã\, rumo a Queimada dos Britos\, outro Oásis\, perfazendo nesse dia 10 km com duração entre 5 a 6 horas caminhada. Outra oportunidade de ver um por do sol de beleza único em cima das dunas. Pernoite em redes na Queimada dos Britos.\nDia 7 – 4º dia de travessia: Sairemos mais cedo que os dias anteriores porque esse dia é o mais longo. Caminharemos 15 km até Lagoa do Junco. Depois de último banho em uma das lagoas mais lindas dos Lençóis Maranhenses\, faremos nosso transfer de Santo Amaro\, onde almoçaremos. Em seguida pegaremos nosso transfer (prtivado) para São Luís. Pernoite em São Luís.\nDia 8  – Retorno: Faremos um city Tour em São Luís pela manhã e às 12h00 todos estarão liberados para voltar para suas casas.\n\n\nCompartilhe:
URL:https://taperouge.com/roteiro/travessia-dos-lencois-maranhenses-2026/
CATEGORIES:Caminhada,Trekking,Turismo
ATTACH;FMTTYPE=image/jpeg:https://taperouge.com/wp-content/uploads/2018/11/aaaacapa.jpg
END:VEVENT
END:VCALENDAR