BEGIN:VCALENDAR
VERSION:2.0
PRODID:-//Ana Wanke - ECPv6.15.20//NONSGML v1.0//EN
CALSCALE:GREGORIAN
METHOD:PUBLISH
X-WR-CALNAME:Ana Wanke
X-ORIGINAL-URL:https://taperouge.com
X-WR-CALDESC:Eventos para Ana Wanke
REFRESH-INTERVAL;VALUE=DURATION:PT1H
X-Robots-Tag:noindex
X-PUBLISHED-TTL:PT1H
BEGIN:VTIMEZONE
TZID:America/Sao_Paulo
BEGIN:STANDARD
TZOFFSETFROM:-0300
TZOFFSETTO:-0300
TZNAME:-03
DTSTART:20250101T000000
END:STANDARD
END:VTIMEZONE
BEGIN:VEVENT
DTSTART;TZID=America/Sao_Paulo:20260318T170000
DTEND;TZID=America/Sao_Paulo:20260328T080000
DTSTAMP:20260423T144515
CREATED:20250131T130924Z
LAST-MODIFIED:20250825T141724Z
UID:29295-1773853200-1774684800@taperouge.com
SUMMARY:Patagonia Chilena 2026
DESCRIPTION:Nossa expedição pela Patagônia Chilena no Parque Nacional Torres del Paine promete ser uma experiência incrível! O Circuito W é realmente famoso por suas paisagens deslumbrantes e trekking desafiador. Cada uma das paradas\, como a Base das Torres e o Mirante do Glaciar Grey\, oferece vistas espetaculares. \nAlém disso\, visitaremos a Isla Martillo.  A ilha é lar da espécie de pinguins papua (com bicos e patas laranjas) durante o ano todo\, mas enche de pinguins mesmo na primavera e no verão\, quando recebe para o período de reprodução colônias de magalhães (brancos e pretos\, os mais numerosos) e pinguins-reis (maiores e mais raros de se avistar por ali). Observar a vida selvagem em seu habitat natural é sempre uma experiência enriquecedora. \nBora com Ana Wanke para um dos lugres mais lindos do mundo? Confira o roteiro: \n\nDia 1: 18/03 – Santiago do Chile\n– Nos encontramos no hotel em Santiago\n– Pernoite em Santiago\nDia 2: 19/03 – Transfer para o Parque\n– Voo Santiago/Punta Arenas\n– Transfer privado Punta Arenas/Parque\n– Jantar incluso\n– Pernoite no Refugio Central (quartos coletivos)\nDia 3: 20/03 – Base das Torres\n– Trekking à Base das Torres (1a. perna do Circuito W)\n– Café da manhã\, piquenique e jantar inclusos\n– Pernoite no Refugio Chileno (barracas completas em duplas)\nDia 4: 21/03 – Los Cuernos\n– Trekking ao Refugio Los Cuernos\n– Café da manhã\, piquenique e jantar inclusos\n– Pernoite no Refugio Los Cuernos (quartos coletivos)\nDia 5: 22/03 – Vale Francês\n– Caminhada pelo Vale Francês (2a. perna do Circuito W)\n– Café da manhã\, piquenique e jantar inclusos\n– Pernoite no Refugio Francês (6 quartos coletivos e 2 lugares numa barraca duplas completa)\nDia 6: 23/03 – Refugio Paine Grande\n– Trekking ao Refugio Paine Grande\n– Café da manhã\, piquenique e jantar inclusos\n– Pernoite no Refugio Paine Grande (barraca completa em duplas )\nDia 7: 24/03 – Ultimo dia do Circuito W\n– Trekking ao Refúgio Grey (3a. perna do Circuito W)\n– Café da manhã\, piquenique inclusos\n– Trekking no gelo (opcional)\n– Pernoite no Camping do Refúgio Grey (barraca completa em duplas )\nDia 8: 25/03 – Completando o Circuito W\n– Trekking de retorno ao Refugio Paine Grande\n– Café da manhã e piquenique  inclusos\n– Transfer por Catamarã ao Porto de Pudeto\n– Caminhada à Hosteria Pehoé (quartos duplos e triplos)\n– Pernoite na Hosteria Pehoé\nDia 9: 26/03 – Transfer para Punta Arenas\n– Caminhada para apreciar a paisagem do maciço\n– Transfer privado da Hosteria até Punta Arenas\n– Pernoite em Punta Arenas (quartos duplos)\nDia 10: 27/03 – Pinguineira\n– Visita à pinguineira na Isla Martillo\n– Pernoite em Punta Arenas (quartos duplos)\nDia 11: 28/03 – Voo Santiago do Chile\n– Voo Punta Arenas/Santiago do Chile\n– Transfer Hotel/Aeroporto\n– Fim do roteiro no Aeroporto de Santiago\n\nO itinerário disponível aqui está sujeito à mudanças devido à condições climáticas\, performance do grupo ou mudanças políticas/administrativas do local em questão. \n\n			\n				\n			\n			\n				\n			\n			\n				\n			\n			\n				\n			\n			\n				\n			\n			\n				\n			\n			\n				\n			\n			\n				\n			\n			\n				\n			\n			\n				\n			\n			\n				\n			\n			\n				\n			\n			\n				\n			\n			\n				\n			\n			\n				\n			\n			\n				\n			\n			\n				\n			\n			\n				\n			\n			\n				\n			\n			\n				\n			\n			\n				\n			\n			\n				\n			\n			\n				\n			\n			\n				\n			\n		\n\nCompartilhe:
URL:https://taperouge.com/roteiro/patagonia-chilena-2026/
CATEGORIES:Caminhada,Trekking,Turismo
ATTACH;FMTTYPE=image/jpeg:https://taperouge.com/wp-content/uploads/2024/06/Capas-1.jpg
END:VEVENT
END:VCALENDAR