BEGIN:VCALENDAR
VERSION:2.0
PRODID:-//Ana Wanke - ECPv6.15.20//NONSGML v1.0//EN
CALSCALE:GREGORIAN
METHOD:PUBLISH
X-ORIGINAL-URL:https://taperouge.com
X-WR-CALDESC:Eventos para Ana Wanke
REFRESH-INTERVAL;VALUE=DURATION:PT1H
X-Robots-Tag:noindex
X-PUBLISHED-TTL:PT1H
BEGIN:VTIMEZONE
TZID:America/Sao_Paulo
BEGIN:STANDARD
TZOFFSETFROM:-0300
TZOFFSETTO:-0300
TZNAME:-03
DTSTART:20220101T000000
END:STANDARD
END:VTIMEZONE
BEGIN:VEVENT
DTSTART;TZID=America/Sao_Paulo:20230324T170000
DTEND;TZID=America/Sao_Paulo:20230326T150000
DTSTAMP:20260425T125804
CREATED:20230302T223430Z
LAST-MODIFIED:20230302T224209Z
UID:22461-1679677200-1679842800@taperouge.com
SUMMARY:Gear Tips Pilgrim Experience 2023
DESCRIPTION:Esse é um evento presencial muito especial!\nO evento contará com palestras\, workshops e oficinas\, tudo o que você precisa saber para se preparar e não comprometer a sua jornada.\nSerá uma verdadeira imersão para quem deseja fazer o Caminho de Santiago de Compostela ou outras rotas de peregrinação\, no Brasil e no mundo.\nVocê também poderá ver e experimentar diversos equipamentos para peregrinação\, aprendendo com um olhar técnico de quem atua no mercado há mais de 20 anos\, além de palestras com quem mais entende de peregrinação no Brasil! \nO que vai rolar no evento?\n– Workshops sobre equipamentos para Peregrinação\n– Palestras sobre o Caminho de Santiago de Compostela (muitas!!)\n– Palestras sobre Caminhos de Peregrinação no Brasil\n– Oficina de Ajuste de Mochilas e Uso de Bastão de Caminhada\n– Atividades especiais de condicionamento físico e meditação para peregrinos\n– Caminhada funcional e meditação guiada \n \nConfira a programação: \n \n  \n \nO local escolhido para este evento foi o Hotel Villa-Forte: Um hotel localizado em Engenheiro Passos (RJ)\, a 15 km de Itatiaia\, na Rodovia Presidente Dutra. \nTendo iniciado suas atividades hoteleiras em 1918\, o Hotel Fazenda Villa-Forte ainda hoje conserva a sua casa grande\, a estação de trens\, além de algumas áreas de lazer que foram senzalas na época da escravidão. É uma verdadeira e tradicional fazenda com as atrações de um moderno hotel de lazer. \nTemos vários tipos de acomodação para sua escolha! Confira no link \nVeja o KIT que todos os participantes receberão!!\nNossos apoiadores e patrocinadores disponibilizaram alguns bônus extras que serão dados aos inscritos nesta edição do Gear Tips Pilgrim Experience!\n– 01 Camiseta do evento;\n– 01 Ecobag Gear Tips;\n– 01 kit Exceed\, com SportDrink\, Energy Gel e ProteinBar;\n– 01 kit Clorin\, com Clorin Salad\, Milton e Clorin 1;\n– 01 Kit Generosa Castanha\, com Castanhas de Caju Salgada e Mix Tropical de Frutas Secas;\n– Kit Promeal com Pizza Termoprocessada e Fogareiro Químico\n– Certificado do evento;\n– Credencial;\n– Curso Online The Gear Guide. \nQuer vir nessa? \nAcesse este link e saiba de mais detalhes!! \n\n\n\n\n\n\n\n\n\n\nVeja um pouco como foi a primeira edição do Pilgrim Expirience:\n\n\n\n\n\n\n\n\n\n\n\n\n\n\n\nCompartilhe:
URL:https://taperouge.com/roteiro/geartips-pilgrim-experience/
LOCATION:Engenheiro Passos\, Hotel Fazenda Vila Forte\, Engenheiro Passos\, RJ\, Brasil
CATEGORIES:Caminhada,Palestras,Trekking,Workshops
ATTACH;FMTTYPE=image/jpeg:https://taperouge.com/wp-content/uploads/2023/01/Capas.jpg
END:VEVENT
END:VCALENDAR