BEGIN:VCALENDAR
VERSION:2.0
PRODID:-//Ana Wanke - ECPv6.15.20//NONSGML v1.0//EN
CALSCALE:GREGORIAN
METHOD:PUBLISH
X-ORIGINAL-URL:https://taperouge.com
X-WR-CALDESC:Eventos para Ana Wanke
REFRESH-INTERVAL;VALUE=DURATION:PT1H
X-Robots-Tag:noindex
X-PUBLISHED-TTL:PT1H
BEGIN:VTIMEZONE
TZID:America/Sao_Paulo
BEGIN:STANDARD
TZOFFSETFROM:-0300
TZOFFSETTO:-0300
TZNAME:-03
DTSTART:20220101T000000
END:STANDARD
END:VTIMEZONE
BEGIN:VEVENT
DTSTART;TZID=America/Sao_Paulo:20230128T050000
DTEND;TZID=America/Sao_Paulo:20230128T200000
DTSTAMP:20260425T152314
CREATED:20190108T120614Z
LAST-MODIFIED:20230124T191332Z
UID:9428-1674882000-1674936000@taperouge.com
SUMMARY:Vale das Ostras
DESCRIPTION:Nossa trilha se desenvolverá pelo Vale das Ostras\, um local onde poderemos observar vários aspectos da natureza e desfrutarmos de momentos de contato direto com ela\, além de tomar banho em diversas cachoeiras e piscinas naturais de águas cristalinas ao longo dos 6 km de trilha. \nO Ribeirão das Ostras atravessa a Caverna do Diabo e depois segue seu curso serra à baixo em um terreno\, formando 9 cachoeiras e 12 piscinas naturais de águas cristalinas. No final da trilha nos deparamos com a impressionante queda do “MEU DEUS!”\, despencando no meio da floresta\, com 53m de altura! É considerada a cachoeira mais bonita do estado de São Paulo. \nCachoeiras e piscinas naturais no Vale das Ostras as quais conheceremos: Cachoeira do Saci\, Poço do Quati\,  Cachoeira Andorinha\,  Cachoeira da Revessa\,  Poço do Jacaré\,  Cachoeira da Boa Vista\,  Cachoeira Escondida\,  Cachoeira Tri Gêmeas\,  Cachoeira do Funil\,  Cachoeira do Palmito\,  Poço do Pulo\, Cachoeira do Papo\, Cachoeira da Jaguatirica\,  Vale dos Escravos\,  Cachoeira do Quebra Corpo\,  Poço das Esmeraldas\,  Poço da Hidromassagem e por fim a Cachoeira Queda do meu Deus\, com 53 metros de altura. \nÉ sem dúvida uma caminhada surpreendente! Você não vai ficar de fora dessa\, né? Inscreva-se\, as vagas são limitadas. \n\nCompartilhe:
URL:https://taperouge.com/roteiro/vale-das-ostras/
LOCATION:Vale das Ostras\, Eldorado\, São Paulo
CATEGORIES:Caminhada
ATTACH;FMTTYPE=image/jpeg:https://taperouge.com/wp-content/uploads/2019/01/Copia-de-MARCO-2021-1.jpg
END:VEVENT
END:VCALENDAR