BEGIN:VCALENDAR
VERSION:2.0
PRODID:-//Ana Wanke - ECPv6.15.20//NONSGML v1.0//EN
CALSCALE:GREGORIAN
METHOD:PUBLISH
X-WR-CALNAME:Ana Wanke
X-ORIGINAL-URL:https://taperouge.com
X-WR-CALDESC:Eventos para Ana Wanke
REFRESH-INTERVAL;VALUE=DURATION:PT1H
X-Robots-Tag:noindex
X-PUBLISHED-TTL:PT1H
BEGIN:VTIMEZONE
TZID:America/Sao_Paulo
BEGIN:STANDARD
TZOFFSETFROM:-0300
TZOFFSETTO:-0300
TZNAME:-03
DTSTART:20210101T000000
END:STANDARD
END:VTIMEZONE
BEGIN:VEVENT
DTSTART;TZID=America/Sao_Paulo:20220904T130000
DTEND;TZID=America/Sao_Paulo:20221009T120000
DTSTAMP:20260425T214703
CREATED:20180920T144828Z
LAST-MODIFIED:20220318T175941Z
UID:8577-1662296400-1665316800@taperouge.com
SUMMARY:Caminho de Santiago Francês
DESCRIPTION:Os Caminhos de Santiago são os percursos percorridos pelos peregrinos que afluem a Santiago de Compostela desde o século IX para venerar as relíquias do apóstolo Santiago Maior\, cujo suposto sepulcro se encontra na catedral de Santiago de Compostela. A peregrinação foi uma das mais concorridas da Europa medieval\, cuja importância só era superada pela Via Francigena (com destino a Roma) e Jerusalém\, sendo concedida indulgência plena a quem a fizesse. Depois de vários séculos relativamente esquecida\, desde os anos 1980 que a popularidade da peregrinação tem vindo a crescer substancialmente\, embora grande parte das pessoas que fazem o Caminho — nome pelo qual é também conhecida a peregrinação — atualmente não o façam por motivos religiosos. \nO Caminho tornou-se um itinerário espiritual e cultural de primeira ordem\, que é percorrido por dezenas ou centenas de milhares de pessoas todos os anos. Foi declarado Primeiro Itinerário Cultural Europeu em 1987 e Patrimônio da Humanidade (na Espanha em 1993 e na França em 1998). \nVamos levar você pela rota mais tradicional\, o Caminho Francês\, ficando em albergues: \n\nDia 01: Transfer Pamplona – Saint Jean Pied du Port\, com pernoite em hotel.\nDia 02 e 03: Início da nossa peregrinação de quase 800 km com a subida dos Pirineus.\nDia 04 a 13: Percorreremos o caminho ficando em albergues.\nDia 14: Chegaremos em Burgos\, onde ficaremos em hotel.\nDia 15 a 21: Percorreremos as famosas mesetas entre Burgos e Leon. Pernoite em hotel 😉\nDia 27: Chegaremos ao emblemático Cebreiro\, povoado celta edificado todo em pedra. Nosso pernoite será em pousada.\nDia 29: Passaremos caminhando pelo “marco 100”\, ou seja\, faltarão apenas 100 km para chegar a Santiago.\nDia 34: Chegada a Santiago. Pernoite em Santiago de Compostela. Pernoite em Santiago de Compostela\nDia 35: Passeio por Santiago de Compostela passando pelos pontos históricos e visita guiada aos Telhados da Catedral de Santiago de Compostela. Jantar de despedida. Pernoite em Santiago de Compostela.\nDia 36: Fim do roteiro.\n\nSerão 36 dias de roteiro\, 775km a serem caminhados em 33 dias. Qualquer dúvida entre em contato diretamente comigo (41) 99282 5749 Ana Wanke. \n\nCompartilhe:
URL:https://taperouge.com/roteiro/caminho-de-santiago-frances/
LOCATION:Santiago de Compostela\, Santiago de Compostela\, Galícia\, Espanha
CATEGORIES:Caminhada
ATTACH;FMTTYPE=image/jpeg:https://taperouge.com/wp-content/uploads/2018/09/COLONIA.jpg
END:VEVENT
END:VCALENDAR